| Back to Multiple platform build/check report for BioC 3.9 |
|
This page was generated on 2019-04-09 12:27:52 -0400 (Tue, 09 Apr 2019).
| Package 1056/1703 | Hostname | OS / Arch | INSTALL | BUILD | CHECK | BUILD BIN | ||||||
| MutationalPatterns 1.9.0 Roel Janssen
| malbec2 | Linux (Ubuntu 18.04.2 LTS) / x86_64 | OK | OK | OK | |||||||
| tokay2 | Windows Server 2012 R2 Standard / x64 | [ OK ] | ERROR | skipped | skipped | |||||||
| celaya2 | OS X 10.11.6 El Capitan / x86_64 | OK | OK | OK | OK | |||||||
| merida2 | OS X 10.11.6 El Capitan / x86_64 | OK | OK | OK | OK |
| Package: MutationalPatterns |
| Version: 1.9.0 |
| Command: C:\cygwin\bin\curl.exe -O https://malbec2.bioconductor.org/BBS/3.9/bioc/src/contrib/MutationalPatterns_1.9.0.tar.gz && rm -rf MutationalPatterns.buildbin-libdir && mkdir MutationalPatterns.buildbin-libdir && C:\Users\biocbuild\bbs-3.9-bioc\R\bin\R.exe CMD INSTALL --merge-multiarch --build --library=MutationalPatterns.buildbin-libdir MutationalPatterns_1.9.0.tar.gz && C:\Users\biocbuild\bbs-3.9-bioc\R\bin\R.exe CMD INSTALL MutationalPatterns_1.9.0.zip && rm MutationalPatterns_1.9.0.tar.gz MutationalPatterns_1.9.0.zip |
| StartedAt: 2019-04-08 20:39:49 -0400 (Mon, 08 Apr 2019) |
| EndedAt: 2019-04-08 20:40:59 -0400 (Mon, 08 Apr 2019) |
| EllapsedTime: 69.4 seconds |
| RetCode: 0 |
| Status: OK |
##############################################################################
##############################################################################
###
### Running command:
###
### C:\cygwin\bin\curl.exe -O https://malbec2.bioconductor.org/BBS/3.9/bioc/src/contrib/MutationalPatterns_1.9.0.tar.gz && rm -rf MutationalPatterns.buildbin-libdir && mkdir MutationalPatterns.buildbin-libdir && C:\Users\biocbuild\bbs-3.9-bioc\R\bin\R.exe CMD INSTALL --merge-multiarch --build --library=MutationalPatterns.buildbin-libdir MutationalPatterns_1.9.0.tar.gz && C:\Users\biocbuild\bbs-3.9-bioc\R\bin\R.exe CMD INSTALL MutationalPatterns_1.9.0.zip && rm MutationalPatterns_1.9.0.tar.gz MutationalPatterns_1.9.0.zip
###
##############################################################################
##############################################################################
% Total % Received % Xferd Average Speed Time Time Time Current
Dload Upload Total Spent Left Speed
0 0 0 0 0 0 0 0 --:--:-- --:--:-- --:--:-- 0
20 3136k 20 656k 0 0 1503k 0 0:00:02 --:--:-- 0:00:02 1522k
100 3136k 100 3136k 0 0 6641k 0 --:--:-- --:--:-- --:--:-- 6715k
install for i386
* installing *source* package 'MutationalPatterns' ...
** R
** inst
** byte-compile and prepare package for lazy loading
** help
*** installing help indices
converting help for package 'MutationalPatterns'
finding HTML links ... done
MutationalPatterns-package html
binomial_test html
cluster_signatures html
cos_sim html
cos_sim_matrix html
enrichment_depletion_test html
explained_by_signatures html
extract_signatures html
fit_to_signatures html
genomic_distribution html
mut_context html
mut_matrix html
mut_matrix_stranded html
mut_strand html
mut_type html
mut_type_occurrences html
mutation_context html
mutation_types html
mutations_from_vcf html
plot_192_profile html
plot_96_profile html
plot_compare_profiles html
plot_contribution html
plot_contribution_heatmap html
plot_cosine_heatmap html
plot_enrichment_depletion html
plot_rainfall html
plot_signature_strand_bias html
plot_spectrum html
plot_strand html
plot_strand_bias html
read_vcfs_as_granges html
strand_bias_test html
strand_from_vcf html
strand_occurrences html
type_context html
** building package indices
** installing vignettes
** testing if installed package can be loaded from temporary location
** testing if installed package can be loaded from final location
** testing if installed package keeps a record of temporary installation path
install for x64
* installing *source* package 'MutationalPatterns' ...
** testing if installed package can be loaded
* MD5 sums
packaged installation of 'MutationalPatterns' as MutationalPatterns_1.9.0.zip
* DONE (MutationalPatterns)
* installing to library 'C:/Users/biocbuild/bbs-3.9-bioc/R/library'
package 'MutationalPatterns' successfully unpacked and MD5 sums checked