| Back to Multiple platform build/check report for BioC 3.9 | 
 | 
This page was generated on 2019-04-09 13:30:02 -0400 (Tue, 09 Apr 2019).
| Package 1050/1703 | Hostname | OS / Arch | INSTALL | BUILD | CHECK | BUILD BIN | ||||||
| MultiMed 2.5.0 Simina M. Boca 
 | malbec2 | Linux (Ubuntu 18.04.2 LTS) / x86_64 | OK | OK | OK |  | ||||||
| tokay2 | Windows Server 2012 R2 Standard / x64 | OK | OK | OK | OK |  | ||||||
| celaya2 | OS X 10.11.6 El Capitan / x86_64 | OK | OK | OK | OK |  | ||||||
| merida2 | OS X 10.11.6 El Capitan / x86_64 | OK | OK | OK | [ OK ] | 
| Package: MultiMed | 
| Version: 2.5.0 | 
| Command: rm -rf MultiMed.buildbin-libdir && mkdir MultiMed.buildbin-libdir && /Users/biocbuild/BBS/utils/build-universal.sh MultiMed_2.5.0.tar.gz /Library/Frameworks/R.framework/Versions/Current/Resources/bin/R MultiMed.buildbin-libdir | 
| StartedAt: 2019-04-09 05:57:37 -0400 (Tue, 09 Apr 2019) | 
| EndedAt: 2019-04-09 05:58:54 -0400 (Tue, 09 Apr 2019) | 
| EllapsedTime: 76.9 seconds | 
| RetCode: 0 | 
| Status: OK | 
| PackageFile: MultiMed_2.5.0.tgz | 
| PackageFileSize: 481.6 KiB | 
############################################################################## ############################################################################## ### ### Running command: ### ### rm -rf MultiMed.buildbin-libdir && mkdir MultiMed.buildbin-libdir && /Users/biocbuild/BBS/utils/build-universal.sh MultiMed_2.5.0.tar.gz /Library/Frameworks/R.framework/Versions/Current/Resources/bin/R MultiMed.buildbin-libdir ### ############################################################################## ############################################################################## >>>>>>> >>>>>>> INSTALLATION WITH 'R CMD INSTALL --preclean --no-multiarch --library=MultiMed.buildbin-libdir MultiMed_2.5.0.tar.gz' >>>>>>> * installing *source* package ‘MultiMed’ ... ** R ** data ** inst ** byte-compile and prepare package for lazy loading ** help *** installing help indices ** building package indices ** installing vignettes ** testing if installed package can be loaded * DONE (MultiMed)