| Back to Multiple platform build/check report for BioC 3.9 |
|
This page was generated on 2019-04-09 12:26:10 -0400 (Tue, 09 Apr 2019).
| Package 1046/1703 | Hostname | OS / Arch | INSTALL | BUILD | CHECK | BUILD BIN | ||||||
| MultiAssayExperiment 1.9.18 Marcel Ramos
| malbec2 | Linux (Ubuntu 18.04.2 LTS) / x86_64 | OK | OK | OK | |||||||
| tokay2 | Windows Server 2012 R2 Standard / x64 | OK | OK | OK | [ OK ] | |||||||
| celaya2 | OS X 10.11.6 El Capitan / x86_64 | OK | OK | OK | OK | |||||||
| merida2 | OS X 10.11.6 El Capitan / x86_64 | OK | OK | OK | OK |
| Package: MultiAssayExperiment |
| Version: 1.9.18 |
| Command: rm -rf MultiAssayExperiment.buildbin-libdir && mkdir MultiAssayExperiment.buildbin-libdir && C:\Users\biocbuild\bbs-3.9-bioc\R\bin\R.exe CMD INSTALL --merge-multiarch --build --library=MultiAssayExperiment.buildbin-libdir MultiAssayExperiment_1.9.18.tar.gz |
| StartedAt: 2019-04-09 08:32:14 -0400 (Tue, 09 Apr 2019) |
| EndedAt: 2019-04-09 08:32:54 -0400 (Tue, 09 Apr 2019) |
| EllapsedTime: 40.1 seconds |
| RetCode: 0 |
| Status: OK |
| PackageFile: MultiAssayExperiment_1.9.18.zip |
| PackageFileSize: 2.834 MiB |
##############################################################################
##############################################################################
###
### Running command:
###
### rm -rf MultiAssayExperiment.buildbin-libdir && mkdir MultiAssayExperiment.buildbin-libdir && C:\Users\biocbuild\bbs-3.9-bioc\R\bin\R.exe CMD INSTALL --merge-multiarch --build --library=MultiAssayExperiment.buildbin-libdir MultiAssayExperiment_1.9.18.tar.gz
###
##############################################################################
##############################################################################
install for i386
* installing *source* package 'MultiAssayExperiment' ...
** R
** data
*** moving datasets to lazyload DB
** inst
** byte-compile and prepare package for lazy loading
** help
*** installing help indices
converting help for package 'MultiAssayExperiment'
finding HTML links ... done
ExperimentList-class html
finding level-2 HTML links ... done
ExperimentList html
MatchedAssayExperiment-class html
MultiAssayExperiment-class html
MultiAssayExperiment-helpers html
MultiAssayExperiment-methods html
MultiAssayExperiment-package html
MultiAssayExperiment html
hasAssay html
mapToList html
miniACC html
prepMultiAssay html
reexports html
subsetBy html
upsetSamples html
** building package indices
** installing vignettes
** testing if installed package can be loaded from temporary location
** testing if installed package can be loaded from final location
** testing if installed package keeps a record of temporary installation path
install for x64
* installing *source* package 'MultiAssayExperiment' ...
** testing if installed package can be loaded
* MD5 sums
packaged installation of 'MultiAssayExperiment' as MultiAssayExperiment_1.9.18.zip
* DONE (MultiAssayExperiment)