| Back to Multiple platform build/check report for BioC 3.9 | 
 | 
This page was generated on 2019-04-09 13:04:46 -0400 (Tue, 09 Apr 2019).
| Package 987/1703 | Hostname | OS / Arch | INSTALL | BUILD | CHECK | BUILD BIN | ||||||
| MinimumDistance 1.27.0 Robert B Scharpf 
 | malbec2 | Linux (Ubuntu 18.04.2 LTS) / x86_64 | ERROR | ERROR | skipped | |||||||
| tokay2 | Windows Server 2012 R2 Standard / x64 | ERROR | ERROR | skipped | skipped | |||||||
| celaya2 | OS X 10.11.6 El Capitan / x86_64 | ERROR | [ ERROR ] | skipped | skipped | |||||||
| merida2 | OS X 10.11.6 El Capitan / x86_64 | OK | OK | WARNINGS | OK | 
| Package: MinimumDistance | 
| Version: 1.27.0 | 
| Command: /Library/Frameworks/R.framework/Versions/Current/Resources/bin/R CMD build --keep-empty-dirs --no-resave-data MinimumDistance | 
| StartedAt: 2019-04-08 20:16:52 -0400 (Mon, 08 Apr 2019) | 
| EndedAt: 2019-04-08 20:16:56 -0400 (Mon, 08 Apr 2019) | 
| EllapsedTime: 4.0 seconds | 
| RetCode: 1 | 
| Status: ERROR | 
| PackageFile: None | 
| PackageFileSize: NA | 
##############################################################################
##############################################################################
###
### Running command:
###
###   /Library/Frameworks/R.framework/Versions/Current/Resources/bin/R CMD build --keep-empty-dirs --no-resave-data MinimumDistance
###
##############################################################################
##############################################################################
* checking for file ‘MinimumDistance/DESCRIPTION’ ... OK
* preparing ‘MinimumDistance’:
* checking DESCRIPTION meta-information ... OK
* installing the package to build vignettes
      -----------------------------------
ERROR: dependency ‘VanillaICE’ is not available for package ‘MinimumDistance’
* removing ‘/private/tmp/RtmpBAdPWJ/Rinst166324a16d81a/MinimumDistance’
      -----------------------------------
ERROR: package installation failed