| Back to Multiple platform build/check report for BioC 3.9 | 
 | 
This page was generated on 2019-04-09 11:57:27 -0400 (Tue, 09 Apr 2019).
| Package 978/1703 | Hostname | OS / Arch | INSTALL | BUILD | CHECK | BUILD BIN | ||||||
| MiChip 1.37.0 Jonathon Blake 
 | malbec2 | Linux (Ubuntu 18.04.2 LTS) / x86_64 | OK | OK | OK |  | ||||||
| tokay2 | Windows Server 2012 R2 Standard / x64 | OK | OK | OK | [ OK ] |  | ||||||
| celaya2 | OS X 10.11.6 El Capitan / x86_64 | OK | OK | OK | OK |  | ||||||
| merida2 | OS X 10.11.6 El Capitan / x86_64 | OK | OK | OK | OK | 
| Package: MiChip | 
| Version: 1.37.0 | 
| Command: rm -rf MiChip.buildbin-libdir && mkdir MiChip.buildbin-libdir && C:\Users\biocbuild\bbs-3.9-bioc\R\bin\R.exe CMD INSTALL --merge-multiarch --build --library=MiChip.buildbin-libdir MiChip_1.37.0.tar.gz | 
| StartedAt: 2019-04-09 08:28:14 -0400 (Tue, 09 Apr 2019) | 
| EndedAt: 2019-04-09 08:28:49 -0400 (Tue, 09 Apr 2019) | 
| EllapsedTime: 34.9 seconds | 
| RetCode: 0 | 
| Status: OK | 
| PackageFile: MiChip_1.37.0.zip | 
| PackageFileSize: 661.3 KiB | 
##############################################################################
##############################################################################
###
### Running command:
###
###   rm -rf MiChip.buildbin-libdir && mkdir MiChip.buildbin-libdir && C:\Users\biocbuild\bbs-3.9-bioc\R\bin\R.exe CMD INSTALL --merge-multiarch --build --library=MiChip.buildbin-libdir MiChip_1.37.0.tar.gz
###
##############################################################################
##############################################################################
install for i386
* installing *source* package 'MiChip' ...
** R
** inst
** byte-compile and prepare package for lazy loading
** help
*** installing help indices
  converting help for package 'MiChip'
    finding HTML links ... done
    MiChip                                  html  
    boxplotData                             html  
    boxplotDataNoFile                       html  
    correctForFlags                         html  
    myForgivingMedian                       html  
    naOmitMedian                            html  
    normalizePerChipMedian                  html  
    outputAnnotatedDataMatrix               html  
    panelCor                                html  
    parseRawData                            html  
    plotIntensitiesScatter                  html  
    removeUnwantedRows                      html  
    returnAnnotatedDataMatrix               html  
    setIntensityCutoff                      html  
    standardRemoveRows                      html  
    summarizeIntensitiesAsMedian            html  
    workedExampleMedianNormalize            html  
    workedExampleNotNormalizedData          html  
** building package indices
** installing vignettes
** testing if installed package can be loaded from temporary location
** testing if installed package can be loaded from final location
** testing if installed package keeps a record of temporary installation path
install for x64
* installing *source* package 'MiChip' ...
** testing if installed package can be loaded
* MD5 sums
packaged installation of 'MiChip' as MiChip_1.37.0.zip
* DONE (MiChip)