| Back to Multiple platform build/check report for BioC 3.9 | 
  | 
This page was generated on 2019-04-09 11:54:54 -0400 (Tue, 09 Apr 2019).
| Package 974/1703 | Hostname | OS / Arch | INSTALL | BUILD | CHECK | BUILD BIN | ||||||
| Mfuzz 2.43.0 Matthias Futschik 
  | malbec2 | Linux (Ubuntu 18.04.2 LTS) / x86_64 | OK | OK | OK | |||||||
| tokay2 | Windows Server 2012 R2 Standard / x64 | OK | OK | OK | [ OK ] | |||||||
| celaya2 | OS X 10.11.6 El Capitan / x86_64 | OK | OK | OK | OK | |||||||
| merida2 | OS X 10.11.6 El Capitan / x86_64 | OK | OK | OK | OK | 
| Package: Mfuzz | 
| Version: 2.43.0 | 
| Command: rm -rf Mfuzz.buildbin-libdir && mkdir Mfuzz.buildbin-libdir && C:\Users\biocbuild\bbs-3.9-bioc\R\bin\R.exe CMD INSTALL --merge-multiarch --build --library=Mfuzz.buildbin-libdir Mfuzz_2.43.0.tar.gz | 
| StartedAt: 2019-04-09 08:28:02 -0400 (Tue, 09 Apr 2019) | 
| EndedAt: 2019-04-09 08:28:18 -0400 (Tue, 09 Apr 2019) | 
| EllapsedTime: 16.2 seconds | 
| RetCode: 0 | 
| Status: OK | 
| PackageFile: Mfuzz_2.43.0.zip | 
| PackageFileSize: 775.1 KiB | 
##############################################################################
##############################################################################
###
### Running command:
###
###   rm -rf Mfuzz.buildbin-libdir && mkdir Mfuzz.buildbin-libdir && C:\Users\biocbuild\bbs-3.9-bioc\R\bin\R.exe CMD INSTALL --merge-multiarch --build --library=Mfuzz.buildbin-libdir Mfuzz_2.43.0.tar.gz
###
##############################################################################
##############################################################################
install for i386
* installing *source* package 'Mfuzz' ...
** R
** data
** inst
** byte-compile and prepare package for lazy loading
** help
*** installing help indices
  converting help for package 'Mfuzz'
    finding HTML links ... done
    Dmin                                    html  
    Mfuzzgui                                html  
    acore                                   html  
    cselection                              html  
    fill.NA                                 html  
    filter.NA                               html  
    filter.std                              html  
    kmeans2                                 html  
    kmeans2.plot                            html  
    membership                              html  
    mestimate                               html  
    mfuzz                                   html  
    mfuzz.plot                              html  
    mfuzz.plot2                             html  
    mfuzzColorBar                           html  
    overlap                                 html  
    overlap.plot                            html  
    partcoef                                html  
    randomise                               html  
    standardise                             html  
    standardise2                            html  
    table2eset                              html  
    top.count                               html  
    yeast                                   html  
    yeast.table                             html  
    yeast.table2                            html  
** building package indices
** installing vignettes
** testing if installed package can be loaded from temporary location
** testing if installed package can be loaded from final location
** testing if installed package keeps a record of temporary installation path
install for x64
* installing *source* package 'Mfuzz' ...
** testing if installed package can be loaded
* MD5 sums
packaged installation of 'Mfuzz' as Mfuzz_2.43.0.zip
* DONE (Mfuzz)