| Back to Multiple platform build/check report for BioC 3.9 | 
 | 
This page was generated on 2019-04-09 13:37:25 -0400 (Tue, 09 Apr 2019).
| Package 972/1703 | Hostname | OS / Arch | INSTALL | BUILD | CHECK | BUILD BIN | ||||||
| MetNet 1.1.1 Thomas Naake 
 | malbec2 | Linux (Ubuntu 18.04.2 LTS) / x86_64 | OK | OK | OK |  | ||||||
| tokay2 | Windows Server 2012 R2 Standard / x64 | OK | OK | OK | OK |  | ||||||
| celaya2 | OS X 10.11.6 El Capitan / x86_64 | OK | OK | OK | OK |  | ||||||
| merida2 | OS X 10.11.6 El Capitan / x86_64 | OK | OK | OK | [ OK ] | 
| Package: MetNet | 
| Version: 1.1.1 | 
| Command: rm -rf MetNet.buildbin-libdir && mkdir MetNet.buildbin-libdir && /Users/biocbuild/BBS/utils/build-universal.sh MetNet_1.1.1.tar.gz /Library/Frameworks/R.framework/Versions/Current/Resources/bin/R MetNet.buildbin-libdir | 
| StartedAt: 2019-04-09 05:51:58 -0400 (Tue, 09 Apr 2019) | 
| EndedAt: 2019-04-09 05:53:14 -0400 (Tue, 09 Apr 2019) | 
| EllapsedTime: 75.6 seconds | 
| RetCode: 0 | 
| Status: OK | 
| PackageFile: MetNet_1.1.1.tgz | 
| PackageFileSize: 3.708 MiB | 
############################################################################## ############################################################################## ### ### Running command: ### ### rm -rf MetNet.buildbin-libdir && mkdir MetNet.buildbin-libdir && /Users/biocbuild/BBS/utils/build-universal.sh MetNet_1.1.1.tar.gz /Library/Frameworks/R.framework/Versions/Current/Resources/bin/R MetNet.buildbin-libdir ### ############################################################################## ############################################################################## >>>>>>> >>>>>>> INSTALLATION WITH 'R CMD INSTALL --preclean --no-multiarch --library=MetNet.buildbin-libdir MetNet_1.1.1.tar.gz' >>>>>>> * installing *source* package ‘MetNet’ ... ** R ** data ** inst ** byte-compile and prepare package for lazy loading ** help *** installing help indices ** building package indices ** installing vignettes ** testing if installed package can be loaded * DONE (MetNet)