This page was generated on 2019-04-09 11:18:44 -0400 (Tue, 09 Apr 2019).
MetNet 1.1.1 Thomas Naake
Snapshot Date: 2019-04-08 17:01:18 -0400 (Mon, 08 Apr 2019) |
URL: https://git.bioconductor.org/packages/MetNet |
Branch: master |
Last Commit: 80cbec9 |
Last Changed Date: 2019-01-04 13:39:05 -0400 (Fri, 04 Jan 2019) |
| malbec2 | Linux (Ubuntu 18.04.2 LTS) / x86_64 | OK | OK | OK | | ![UNNEEDED, same version exists in internal repository UNNEEDED, same version exists in internal repository](../120px-Blue_Light_Icon.svg.png) |
tokay2 | Windows Server 2012 R2 Standard / x64 | OK | OK | OK | OK | ![UNNEEDED, same version exists in internal repository UNNEEDED, same version exists in internal repository](../120px-Blue_Light_Icon.svg.png) |
celaya2 | OS X 10.11.6 El Capitan / x86_64 | OK | OK | OK | OK | ![UNNEEDED, same version exists in internal repository UNNEEDED, same version exists in internal repository](../120px-Blue_Light_Icon.svg.png) |
merida2 | OS X 10.11.6 El Capitan / x86_64 | OK | OK | OK | OK | |