| Back to Multiple platform build/check report for BioC 3.9 |
|
This page was generated on 2019-04-09 12:58:31 -0400 (Tue, 09 Apr 2019).
| Package 906/1703 | Hostname | OS / Arch | INSTALL | BUILD | CHECK | BUILD BIN | ||||||
| MassArray 1.35.1 Reid F. Thompson
| malbec2 | Linux (Ubuntu 18.04.2 LTS) / x86_64 | OK | OK | OK | |||||||
| tokay2 | Windows Server 2012 R2 Standard / x64 | OK | OK | OK | OK | |||||||
| celaya2 | OS X 10.11.6 El Capitan / x86_64 | OK | OK | [ OK ] | OK | |||||||
| merida2 | OS X 10.11.6 El Capitan / x86_64 | OK | OK | OK | OK |
| Package: MassArray |
| Version: 1.35.1 |
| Command: /Library/Frameworks/R.framework/Versions/Current/Resources/bin/R CMD check --install=check:MassArray.install-out.txt --library=/Library/Frameworks/R.framework/Versions/Current/Resources/library --no-vignettes --timings MassArray_1.35.1.tar.gz |
| StartedAt: 2019-04-09 03:15:03 -0400 (Tue, 09 Apr 2019) |
| EndedAt: 2019-04-09 03:16:20 -0400 (Tue, 09 Apr 2019) |
| EllapsedTime: 76.9 seconds |
| RetCode: 0 |
| Status: OK |
| CheckDir: MassArray.Rcheck |
| Warnings: 0 |
##############################################################################
##############################################################################
###
### Running command:
###
### /Library/Frameworks/R.framework/Versions/Current/Resources/bin/R CMD check --install=check:MassArray.install-out.txt --library=/Library/Frameworks/R.framework/Versions/Current/Resources/library --no-vignettes --timings MassArray_1.35.1.tar.gz
###
##############################################################################
##############################################################################
* using log directory ‘/Users/biocbuild/bbs-3.9-bioc/meat/MassArray.Rcheck’
* using R Under development (unstable) (2019-03-18 r76245)
* using platform: x86_64-apple-darwin15.6.0 (64-bit)
* using session charset: UTF-8
* using option ‘--no-vignettes’
* checking for file ‘MassArray/DESCRIPTION’ ... OK
* checking extension type ... Package
* this is package ‘MassArray’ version ‘1.35.1’
* checking package namespace information ... OK
* checking package dependencies ... OK
* checking if this is a source package ... OK
* checking if there is a namespace ... OK
* checking for hidden files and directories ... OK
* checking for portable file names ... OK
* checking for sufficient/correct file permissions ... OK
* checking whether package ‘MassArray’ can be installed ... OK
* checking installed package size ... OK
* checking package directory ... OK
* checking ‘build’ directory ... OK
* checking DESCRIPTION meta-information ... OK
* checking top-level files ... OK
* checking for left-over files ... OK
* checking index information ... OK
* checking package subdirectories ... OK
* checking R files for non-ASCII characters ... OK
* checking R files for syntax errors ... OK
* checking whether the package can be loaded ... OK
* checking whether the package can be loaded with stated dependencies ... OK
* checking whether the package can be unloaded cleanly ... OK
* checking whether the namespace can be loaded with stated dependencies ... OK
* checking whether the namespace can be unloaded cleanly ... OK
* checking dependencies in R code ... OK
* checking S3 generic/method consistency ... OK
* checking replacement functions ... OK
* checking foreign function calls ... OK
* checking R code for possible problems ... NOTE
calcMeth: warning in matrix(0, nr = 0, nc = N): partial argument match
of 'nr' to 'nrow'
calcMeth: warning in matrix(0, nr = 0, nc = N): partial argument match
of 'nc' to 'ncol'
calcMeth: warning in matrix(0, nr = num.SNRs, nc = N): partial argument
match of 'nr' to 'nrow'
calcMeth: warning in matrix(0, nr = num.SNRs, nc = N): partial argument
match of 'nc' to 'ncol'
calcMeth: warning in matrix(0, nr = num.missing, nc = N): partial
argument match of 'nr' to 'nrow'
calcMeth: warning in matrix(0, nr = num.missing, nc = N): partial
argument match of 'nc' to 'ncol'
calcMeth: warning in matrix(0, nr = length(na.coefs), nc = N): partial
argument match of 'nr' to 'nrow'
calcMeth: warning in matrix(0, nr = length(na.coefs), nc = N): partial
argument match of 'nc' to 'ncol'
calcMeth : optimizeCoefficients: warning in matrix(0, nr =
num.fragments, nc = N): partial argument match of 'nr' to 'nrow'
calcMeth : optimizeCoefficients: warning in matrix(0, nr =
num.fragments, nc = N): partial argument match of 'nc' to 'ncol'
calcMeth : optimizeCoefficients: warning in matrix(NA, nr =
length(coefs) + 1, nc = length(coefs)): partial argument match of
'nr' to 'nrow'
calcMeth : optimizeCoefficients: warning in matrix(NA, nr =
length(coefs) + 1, nc = length(coefs)): partial argument match of
'nc' to 'ncol'
$<-,MassArrayData: no visible global function definition for ‘slot<-’
$<-,MassArrayFragment: no visible global function definition for
‘slot<-’
$<-,MassArrayPeak: no visible global function definition for ‘slot<-’
$<-,MassArraySpectrum: no visible global function definition for
‘slot<-’
initialize,MassArrayData: no visible global function definition for
‘read.table’
Undefined global functions or variables:
read.table slot<-
Consider adding
importFrom("methods", "slot<-")
importFrom("utils", "read.table")
to your NAMESPACE file (and ensure that your DESCRIPTION Imports field
contains 'methods').
* checking Rd files ... OK
* checking Rd metadata ... OK
* checking Rd cross-references ... OK
* checking for missing documentation entries ... OK
* checking for code/documentation mismatches ... OK
* checking Rd \usage sections ... OK
* checking Rd contents ... OK
* checking for unstated dependencies in examples ... OK
* checking contents of ‘data’ directory ... OK
* checking data for non-ASCII characters ... OK
* checking data for ASCII and uncompressed saves ... OK
* checking sizes of PDF files under ‘inst/doc’ ... OK
* checking files in ‘vignettes’ ... OK
* checking examples ... OK
Examples with CPU or elapsed time > 5s
user system elapsed
evaluateSNPs 24.307 4.152 28.46
* checking for unstated dependencies in vignettes ... OK
* checking package vignettes in ‘inst/doc’ ... OK
* checking running R code from vignettes ... SKIPPED
* checking re-building of vignette outputs ... SKIPPED
* checking PDF version of manual ... OK
* DONE
Status: 1 NOTE
See
‘/Users/biocbuild/bbs-3.9-bioc/meat/MassArray.Rcheck/00check.log’
for details.
MassArray.Rcheck/00install.out
############################################################################## ############################################################################## ### ### Running command: ### ### /Library/Frameworks/R.framework/Versions/Current/Resources/bin/R CMD INSTALL MassArray ### ############################################################################## ############################################################################## * installing to library ‘/Library/Frameworks/R.framework/Versions/3.6/Resources/library’ * installing *source* package ‘MassArray’ ... ** using staged installation ** R ** data *** moving datasets to lazyload DB ** inst ** byte-compile and prepare package for lazy loading ** help *** installing help indices ** building package indices ** installing vignettes ** testing if installed package can be loaded from temporary location ** testing if installed package can be loaded from final location ** testing if installed package keeps a record of temporary installation path * DONE (MassArray)
MassArray.Rcheck/MassArray-Ex.timings
| name | user | system | elapsed | |
| MassArray.example.data | 0.021 | 0.005 | 0.026 | |
| MassArrayData-class | 0.003 | 0.001 | 0.004 | |
| MassArrayFragment-class | 0.002 | 0.002 | 0.004 | |
| MassArrayPeak-class | 0.001 | 0.001 | 0.001 | |
| MassArraySpectrum-class | 0.002 | 0.001 | 0.002 | |
| ampliconPrediction | 1.333 | 0.017 | 1.350 | |
| analyzeCpGs | 0.133 | 0.004 | 0.138 | |
| bisConvert | 0.000 | 0.000 | 0.001 | |
| calcMW | 0.001 | 0.001 | 0.002 | |
| calcMeth | 0.012 | 0.002 | 0.014 | |
| calcPercentAdduct | 0.050 | 0.005 | 0.055 | |
| calcPercentConversion | 0.039 | 0.004 | 0.042 | |
| combine | 0.637 | 0.006 | 0.642 | |
| convControl | 0.028 | 0.006 | 0.034 | |
| countCGs | 0 | 0 | 0 | |
| createWiggle | 0.017 | 0.005 | 0.023 | |
| estimatePrimerDimer | 0.076 | 0.007 | 0.082 | |
| evaluateSNPs | 24.307 | 4.152 | 28.460 | |
| expandSequence | 0.001 | 0.001 | 0.001 | |
| findCollisions | 0.000 | 0.000 | 0.001 | |
| findFragments | 0.017 | 0.003 | 0.020 | |
| findPeaks | 0.001 | 0.000 | 0.000 | |
| identifySNPs | 0.030 | 0.003 | 0.032 | |
| inSilicoFragmentation | 0.016 | 0.004 | 0.019 | |
| isAssayable | 0.000 | 0.000 | 0.001 | |
| numCollisions | 0.001 | 0.001 | 0.001 | |
| plot.MassArrayData | 0.051 | 0.020 | 0.071 | |
| position | 0.009 | 0.002 | 0.011 | |
| revComplement | 0.001 | 0.001 | 0.001 | |
| rnaDigest | 0.010 | 0.003 | 0.013 | |
| samples | 0.010 | 0.001 | 0.012 | |
| sum.MassArraySpectrum | 0.268 | 0.003 | 0.271 | |