| Back to Multiple platform build/check report for BioC 3.9 | 
 | 
This page was generated on 2019-04-09 12:49:49 -0400 (Tue, 09 Apr 2019).
| Package 1057/1703 | Hostname | OS / Arch | INSTALL | BUILD | CHECK | BUILD BIN | ||||||
| MVCClass 1.57.0 Elizabeth Whalen 
 | malbec2 | Linux (Ubuntu 18.04.2 LTS) / x86_64 | OK | OK | OK |  | ||||||
| tokay2 | Windows Server 2012 R2 Standard / x64 | OK | OK | OK | OK |  | ||||||
| celaya2 | OS X 10.11.6 El Capitan / x86_64 | OK | OK | OK | [ OK ] |  | ||||||
| merida2 | OS X 10.11.6 El Capitan / x86_64 | OK | OK | OK | OK | 
| Package: MVCClass | 
| Version: 1.57.0 | 
| Command: rm -rf MVCClass.buildbin-libdir && mkdir MVCClass.buildbin-libdir && /Users/biocbuild/BBS/utils/build-universal.sh MVCClass_1.57.0.tar.gz /Library/Frameworks/R.framework/Versions/Current/Resources/bin/R MVCClass.buildbin-libdir | 
| StartedAt: 2019-04-09 07:25:44 -0400 (Tue, 09 Apr 2019) | 
| EndedAt: 2019-04-09 07:26:04 -0400 (Tue, 09 Apr 2019) | 
| EllapsedTime: 19.6 seconds | 
| RetCode: 0 | 
| Status: OK | 
| PackageFile: MVCClass_1.57.0.tgz | 
| PackageFileSize: 1.165 MiB | 
############################################################################## ############################################################################## ### ### Running command: ### ### rm -rf MVCClass.buildbin-libdir && mkdir MVCClass.buildbin-libdir && /Users/biocbuild/BBS/utils/build-universal.sh MVCClass_1.57.0.tar.gz /Library/Frameworks/R.framework/Versions/Current/Resources/bin/R MVCClass.buildbin-libdir ### ############################################################################## ############################################################################## >>>>>>> >>>>>>> INSTALLATION WITH 'R CMD INSTALL --preclean --no-multiarch --library=MVCClass.buildbin-libdir MVCClass_1.57.0.tar.gz' >>>>>>> * installing *source* package ‘MVCClass’ ... ** using staged installation ** R ** inst ** byte-compile and prepare package for lazy loading ** help *** installing help indices ** building package indices ** installing vignettes ** testing if installed package can be loaded from temporary location ** testing if installed package can be loaded from final location ** testing if installed package keeps a record of temporary installation path * DONE (MVCClass)