| Back to Multiple platform build/check report for BioC 3.9 |
|
This page was generated on 2019-04-09 12:17:49 -0400 (Tue, 09 Apr 2019).
| Package 1010/1703 | Hostname | OS / Arch | INSTALL | BUILD | CHECK | BUILD BIN | ||||||
| MLSeq 2.1.1 Gokmen Zararsiz
| malbec2 | Linux (Ubuntu 18.04.2 LTS) / x86_64 | OK | OK | OK | |||||||
| tokay2 | Windows Server 2012 R2 Standard / x64 | OK | OK | OK | [ OK ] | |||||||
| celaya2 | OS X 10.11.6 El Capitan / x86_64 | OK | OK | OK | OK | |||||||
| merida2 | OS X 10.11.6 El Capitan / x86_64 | OK | OK | OK | OK |
| Package: MLSeq |
| Version: 2.1.1 |
| Command: rm -rf MLSeq.buildbin-libdir && mkdir MLSeq.buildbin-libdir && C:\Users\biocbuild\bbs-3.9-bioc\R\bin\R.exe CMD INSTALL --merge-multiarch --build --library=MLSeq.buildbin-libdir MLSeq_2.1.1.tar.gz |
| StartedAt: 2019-04-09 08:30:09 -0400 (Tue, 09 Apr 2019) |
| EndedAt: 2019-04-09 08:30:55 -0400 (Tue, 09 Apr 2019) |
| EllapsedTime: 45.9 seconds |
| RetCode: 0 |
| Status: OK |
| PackageFile: MLSeq_2.1.1.zip |
| PackageFileSize: 944.4 KiB |
##############################################################################
##############################################################################
###
### Running command:
###
### rm -rf MLSeq.buildbin-libdir && mkdir MLSeq.buildbin-libdir && C:\Users\biocbuild\bbs-3.9-bioc\R\bin\R.exe CMD INSTALL --merge-multiarch --build --library=MLSeq.buildbin-libdir MLSeq_2.1.1.tar.gz
###
##############################################################################
##############################################################################
install for i386
* installing *source* package 'MLSeq' ...
** R
** data
** inst
** byte-compile and prepare package for lazy loading
** help
*** installing help indices
converting help for package 'MLSeq'
finding HTML links ... done
Available-classifiers html
MLSeq-class html
MLSeq-package html
MLSeqMetaData-class html
MLSeqModelInfo-class html
cervical html
classify html
confusionMat html
control html
discrete.train-class html
discreteControl html
input html
isUpdated html
metaData html
method html
modelInfo html
normalization html
plot html
preProcessing html
predict html
print html
ref html
selectedGenes html
show html
trainParameters html
trained html
transformation html
update html
voom.train-class html
voomControl html
** building package indices
** installing vignettes
** testing if installed package can be loaded from temporary location
** testing if installed package can be loaded from final location
** testing if installed package keeps a record of temporary installation path
install for x64
* installing *source* package 'MLSeq' ...
** testing if installed package can be loaded
* MD5 sums
packaged installation of 'MLSeq' as MLSeq_2.1.1.zip
* DONE (MLSeq)