| Back to Multiple platform build/check report for BioC 3.9 | 
 | 
This page was generated on 2019-04-09 12:20:53 -0400 (Tue, 09 Apr 2019).
| Package 915/1703 | Hostname | OS / Arch | INSTALL | BUILD | CHECK | BUILD BIN | ||||||
| MBASED 1.17.0 Oleg Mayba 
 | malbec2 | Linux (Ubuntu 18.04.2 LTS) / x86_64 | OK | OK | OK |  | ||||||
| tokay2 | Windows Server 2012 R2 Standard / x64 | OK | OK | OK | [ OK ] |  | ||||||
| celaya2 | OS X 10.11.6 El Capitan / x86_64 | OK | OK | OK | OK |  | ||||||
| merida2 | OS X 10.11.6 El Capitan / x86_64 | OK | OK | OK | OK | 
| Package: MBASED | 
| Version: 1.17.0 | 
| Command: rm -rf MBASED.buildbin-libdir && mkdir MBASED.buildbin-libdir && C:\Users\biocbuild\bbs-3.9-bioc\R\bin\R.exe CMD INSTALL --merge-multiarch --build --library=MBASED.buildbin-libdir MBASED_1.17.0.tar.gz | 
| StartedAt: 2019-04-09 08:24:23 -0400 (Tue, 09 Apr 2019) | 
| EndedAt: 2019-04-09 08:25:13 -0400 (Tue, 09 Apr 2019) | 
| EllapsedTime: 49.5 seconds | 
| RetCode: 0 | 
| Status: OK | 
| PackageFile: MBASED_1.17.0.zip | 
| PackageFileSize: 512.2 KiB | 
##############################################################################
##############################################################################
###
### Running command:
###
###   rm -rf MBASED.buildbin-libdir && mkdir MBASED.buildbin-libdir && C:\Users\biocbuild\bbs-3.9-bioc\R\bin\R.exe CMD INSTALL --merge-multiarch --build --library=MBASED.buildbin-libdir MBASED_1.17.0.tar.gz
###
##############################################################################
##############################################################################
install for i386
* installing *source* package 'MBASED' ...
** R
** inst
** byte-compile and prepare package for lazy loading
** help
*** installing help indices
  converting help for package 'MBASED'
    finding HTML links ... done
    FreemanTukeyFunctions                   html  
    MBASED                                  html  
    MBASEDMetaAnalysis                      html  
    MBASEDMetaAnalysisGetMeansAndSEs        html  
    MBASEDVectorizedMetaprop                html  
    MBASEDVectorizedPropDiffTest            html  
    betaParametrizationConverters           html  
    estimateMAF1s                           html  
    estimateMAF2s                           html  
    generatingBetaBinomialCounts            html  
    getPFinal                               html  
    getSimulationPvalue                     html  
    logLikelihoodCalculator1s               html  
    logLikelihoodCalculator2s               html  
    maxLogLikelihoodCalculator1s            html  
    maxLogLikelihoodCalculator2s            html  
    runMBASED                               html  
    runMBASED1s                             html  
    runMBASED1s1aseID                       html  
    runMBASED2s                             html  
    runMBASED2s1aseID                       html  
    shiftAndAttenuateProportions            html  
    testNumericDiff                         html  
    testQuantiles                           html  
** building package indices
** installing vignettes
** testing if installed package can be loaded from temporary location
** testing if installed package can be loaded from final location
** testing if installed package keeps a record of temporary installation path
install for x64
* installing *source* package 'MBASED' ...
** testing if installed package can be loaded
* MD5 sums
packaged installation of 'MBASED' as MBASED_1.17.0.zip
* DONE (MBASED)