| Back to Multiple platform build/check report for BioC 3.9 | 
 | 
This page was generated on 2019-04-09 13:12:50 -0400 (Tue, 09 Apr 2019).
| Package 893/1703 | Hostname | OS / Arch | INSTALL | BUILD | CHECK | BUILD BIN | ||||||
| MAIT 1.17.3 Pol Sola-Santos 
 | malbec2 | Linux (Ubuntu 18.04.2 LTS) / x86_64 | OK | OK | OK |  | ||||||
| tokay2 | Windows Server 2012 R2 Standard / x64 | OK | OK | OK | OK |  | ||||||
| celaya2 | OS X 10.11.6 El Capitan / x86_64 | OK | OK | OK | [ OK ] |  | ||||||
| merida2 | OS X 10.11.6 El Capitan / x86_64 | OK | OK | OK | OK | 
| Package: MAIT | 
| Version: 1.17.3 | 
| Command: rm -rf MAIT.buildbin-libdir && mkdir MAIT.buildbin-libdir && /Users/biocbuild/BBS/utils/build-universal.sh MAIT_1.17.3.tar.gz /Library/Frameworks/R.framework/Versions/Current/Resources/bin/R MAIT.buildbin-libdir | 
| StartedAt: 2019-04-09 07:18:16 -0400 (Tue, 09 Apr 2019) | 
| EndedAt: 2019-04-09 07:19:26 -0400 (Tue, 09 Apr 2019) | 
| EllapsedTime: 69.9 seconds | 
| RetCode: 0 | 
| Status: OK | 
| PackageFile: MAIT_1.17.3.tgz | 
| PackageFileSize: 812.4 KiB | 
############################################################################## ############################################################################## ### ### Running command: ### ### rm -rf MAIT.buildbin-libdir && mkdir MAIT.buildbin-libdir && /Users/biocbuild/BBS/utils/build-universal.sh MAIT_1.17.3.tar.gz /Library/Frameworks/R.framework/Versions/Current/Resources/bin/R MAIT.buildbin-libdir ### ############################################################################## ############################################################################## >>>>>>> >>>>>>> INSTALLATION WITH 'R CMD INSTALL --preclean --no-multiarch --library=MAIT.buildbin-libdir MAIT_1.17.3.tar.gz' >>>>>>> * installing *source* package ‘MAIT’ ... ** using staged installation ** R ** data ** inst ** byte-compile and prepare package for lazy loading Creating a new generic function for ‘scores’ in package ‘MAIT’ Creating a new generic function for ‘loadings’ in package ‘MAIT’ ** help *** installing help indices ** building package indices ** installing vignettes ** testing if installed package can be loaded from temporary location ** testing if installed package can be loaded from final location ** testing if installed package keeps a record of temporary installation path * DONE (MAIT)