| Back to Multiple platform build/check report for BioC 3.9 | 
 | 
This page was generated on 2019-04-09 12:26:44 -0400 (Tue, 09 Apr 2019).
| Package 889/1703 | Hostname | OS / Arch | INSTALL | BUILD | CHECK | BUILD BIN | ||||||
| MADSEQ 1.9.0 Yu Kong 
 | malbec2 | Linux (Ubuntu 18.04.2 LTS) / x86_64 | OK | OK | OK |  | ||||||
| tokay2 | Windows Server 2012 R2 Standard / x64 | OK | OK | OK | [ OK ] |  | ||||||
| celaya2 | OS X 10.11.6 El Capitan / x86_64 | OK | OK | OK | OK |  | ||||||
| merida2 | OS X 10.11.6 El Capitan / x86_64 | OK | OK | OK | OK | 
| Package: MADSEQ | 
| Version: 1.9.0 | 
| Command: rm -rf MADSEQ.buildbin-libdir && mkdir MADSEQ.buildbin-libdir && C:\Users\biocbuild\bbs-3.9-bioc\R\bin\R.exe CMD INSTALL --merge-multiarch --build --library=MADSEQ.buildbin-libdir MADSEQ_1.9.0.tar.gz | 
| StartedAt: 2019-04-09 08:22:43 -0400 (Tue, 09 Apr 2019) | 
| EndedAt: 2019-04-09 08:24:19 -0400 (Tue, 09 Apr 2019) | 
| EllapsedTime: 96.5 seconds | 
| RetCode: 0 | 
| Status: OK | 
| PackageFile: MADSEQ_1.9.0.zip | 
| PackageFileSize: 2.179 MiB | 
##############################################################################
##############################################################################
###
### Running command:
###
###   rm -rf MADSEQ.buildbin-libdir && mkdir MADSEQ.buildbin-libdir && C:\Users\biocbuild\bbs-3.9-bioc\R\bin\R.exe CMD INSTALL --merge-multiarch --build --library=MADSEQ.buildbin-libdir MADSEQ_1.9.0.tar.gz
###
##############################################################################
##############################################################################
install for i386
* installing *source* package 'MADSEQ' ...
** R
** data
*** moving datasets to lazyload DB
** inst
** byte-compile and prepare package for lazy loading
** help
*** installing help indices
  converting help for package 'MADSEQ'
    finding HTML links ... done
    MADSEQ-package                          html  
    MadSeq                                  html  
    aneuploidy_chr18                        html  
    deltaBIC                                html  
    normalizeCoverage                       html  
    finding level-2 HTML links ... done
    plotFraction                            html  
    plotMadSeq                              html  
    plotMixture                             html  
    posterior                               html  
    prepareCoverageGC                       html  
    prepareHetero                           html  
    runMadSeq                               html  
    summary-method                          html  
** building package indices
** installing vignettes
** testing if installed package can be loaded from temporary location
** testing if installed package can be loaded from final location
** testing if installed package keeps a record of temporary installation path
install for x64
* installing *source* package 'MADSEQ' ...
** testing if installed package can be loaded
* MD5 sums
packaged installation of 'MADSEQ' as MADSEQ_1.9.0.zip
* DONE (MADSEQ)