| Back to Multiple platform build/check report for BioC 3.9 |
|
This page was generated on 2019-04-09 13:34:11 -0400 (Tue, 09 Apr 2019).
| Package 883/1703 | Hostname | OS / Arch | INSTALL | BUILD | CHECK | BUILD BIN | ||||||
| M3Drop 1.9.4 Tallulah Andrews
| malbec2 | Linux (Ubuntu 18.04.2 LTS) / x86_64 | OK | OK | OK | |||||||
| tokay2 | Windows Server 2012 R2 Standard / x64 | OK | OK | OK | OK | |||||||
| celaya2 | OS X 10.11.6 El Capitan / x86_64 | OK | OK | OK | OK | |||||||
| merida2 | OS X 10.11.6 El Capitan / x86_64 | OK | OK | [ OK ] | OK |
| Package: M3Drop |
| Version: 1.9.4 |
| Command: /Library/Frameworks/R.framework/Versions/Current/Resources/bin/R CMD check --install=check:M3Drop.install-out.txt --library=/Library/Frameworks/R.framework/Versions/Current/Resources/library --no-vignettes --timings M3Drop_1.9.4.tar.gz |
| StartedAt: 2019-04-09 01:53:21 -0400 (Tue, 09 Apr 2019) |
| EndedAt: 2019-04-09 02:01:55 -0400 (Tue, 09 Apr 2019) |
| EllapsedTime: 513.8 seconds |
| RetCode: 0 |
| Status: OK |
| CheckDir: M3Drop.Rcheck |
| Warnings: 0 |
##############################################################################
##############################################################################
###
### Running command:
###
### /Library/Frameworks/R.framework/Versions/Current/Resources/bin/R CMD check --install=check:M3Drop.install-out.txt --library=/Library/Frameworks/R.framework/Versions/Current/Resources/library --no-vignettes --timings M3Drop_1.9.4.tar.gz
###
##############################################################################
##############################################################################
* using log directory ‘/Users/biocbuild/bbs-3.9-bioc/meat/M3Drop.Rcheck’
* using R Under development (unstable) (2018-11-27 r75683)
* using platform: x86_64-apple-darwin15.6.0 (64-bit)
* using session charset: UTF-8
* using option ‘--no-vignettes’
* checking for file ‘M3Drop/DESCRIPTION’ ... OK
* this is package ‘M3Drop’ version ‘1.9.4’
* checking package namespace information ... OK
* checking package dependencies ... OK
* checking if this is a source package ... OK
* checking if there is a namespace ... OK
* checking for hidden files and directories ... OK
* checking for portable file names ... OK
* checking for sufficient/correct file permissions ... OK
* checking whether package ‘M3Drop’ can be installed ... OK
* checking installed package size ... OK
* checking package directory ... OK
* checking ‘build’ directory ... OK
* checking DESCRIPTION meta-information ... OK
* checking top-level files ... OK
* checking for left-over files ... OK
* checking index information ... OK
* checking package subdirectories ... OK
* checking R files for non-ASCII characters ... OK
* checking R files for syntax errors ... OK
* checking whether the package can be loaded ... OK
* checking whether the package can be loaded with stated dependencies ... OK
* checking whether the package can be unloaded cleanly ... OK
* checking whether the namespace can be loaded with stated dependencies ... OK
* checking whether the namespace can be unloaded cleanly ... OK
* checking dependencies in R code ... NOTE
Package in Depends field not imported from: ‘numDeriv’
These packages need to be imported from (in the NAMESPACE file)
for when this namespace is loaded but not attached.
Missing or unexported object: ‘scater::exprs’
* checking S3 generic/method consistency ... OK
* checking replacement functions ... OK
* checking foreign function calls ... OK
* checking R code for possible problems ... NOTE
bg__filter_cells: no visible binding for global variable ‘x’
bg__get_extreme_residuals: no visible binding for global variable ‘x’
Undefined global functions or variables:
x
* checking Rd files ... NOTE
prepare_Rd: NBumi_FSOther.Rd:8-10: Dropping empty section \usage
prepare_Rd: NBumi_TradDE.Rd:7-8: Dropping empty section \usage
* checking Rd metadata ... OK
* checking Rd cross-references ... OK
* checking for missing documentation entries ... OK
* checking for code/documentation mismatches ... OK
* checking Rd \usage sections ... OK
* checking Rd contents ... OK
* checking for unstated dependencies in examples ... OK
* checking sizes of PDF files under ‘inst/doc’ ... OK
* checking files in ‘vignettes’ ... OK
* checking examples ... OK
Examples with CPU or elapsed time > 5s
user system elapsed
NewSimulations 208.128 19.488 229.566
Imputation 84.293 0.176 85.249
M3D_getmarkers 61.096 0.680 62.257
M3D_ConverData 6.862 0.230 7.171
Brennecke_getVariableGenes 6.114 0.164 6.327
NBumi_CompareModels 5.514 0.256 5.815
* checking for unstated dependencies in vignettes ... OK
* checking package vignettes in ‘inst/doc’ ... OK
* checking running R code from vignettes ... SKIPPED
* checking re-building of vignette outputs ... SKIPPED
* checking PDF version of manual ... OK
* DONE
Status: 3 NOTEs
See
‘/Users/biocbuild/bbs-3.9-bioc/meat/M3Drop.Rcheck/00check.log’
for details.
M3Drop.Rcheck/00install.out
############################################################################## ############################################################################## ### ### Running command: ### ### /Library/Frameworks/R.framework/Versions/Current/Resources/bin/R CMD INSTALL M3Drop ### ############################################################################## ############################################################################## * installing to library ‘/Library/Frameworks/R.framework/Versions/3.6/Resources/library’ * installing *source* package ‘M3Drop’ ... ** R ** inst ** byte-compile and prepare package for lazy loading ** help *** installing help indices ** building package indices ** installing vignettes ** testing if installed package can be loaded * DONE (M3Drop)
M3Drop.Rcheck/M3Drop-Ex.timings
| name | user | system | elapsed | |
| Brennecke_getVariableGenes | 6.114 | 0.164 | 6.327 | |
| Consensus_FS | 0.530 | 0.032 | 0.563 | |
| Fitting_Dropout_Models | 0 | 0 | 0 | |
| Imputation | 84.293 | 0.176 | 85.249 | |
| M3D_Clean_Data | 1.188 | 0.100 | 1.301 | |
| M3D_ConverData | 6.862 | 0.230 | 7.171 | |
| M3D_Differential_Expression | 1.067 | 0.117 | 1.202 | |
| M3D_Dropout_Models | 1.249 | 0.171 | 1.430 | |
| M3D_Expression_Heatmap | 0.366 | 0.013 | 0.384 | |
| M3D_Get_Extremes | 1.831 | 0.270 | 2.112 | |
| M3D_Get_Heatmap_Cell_Clusters | 0.267 | 0.005 | 0.279 | |
| M3D_Simulations | 0 | 0 | 0 | |
| M3D_Test_Shift | 0.523 | 0.090 | 0.616 | |
| M3D_ThreeSet_Venn | 0.069 | 0.003 | 0.074 | |
| M3D_TraditionalDE | 0.008 | 0.000 | 0.009 | |
| M3D_getmarkers | 61.096 | 0.680 | 62.257 | |
| M3D_horz_res | 0 | 0 | 0 | |
| NBumi_CheckFit | 2.757 | 0.131 | 2.922 | |
| NBumi_CompareModels | 5.514 | 0.256 | 5.815 | |
| NBumi_ConvertToInteger | 0.001 | 0.000 | 0.001 | |
| NBumi_ConvrtData | 0.759 | 0.012 | 0.781 | |
| NBumi_FSDrop | 2.762 | 0.195 | 2.977 | |
| NBumi_FSHighVar | 2.798 | 0.172 | 3.004 | |
| NBumi_FSOther | 0.013 | 0.001 | 0.014 | |
| NBumi_FitDisp | 0 | 0 | 0 | |
| NBumi_FitDispVsMean | 1.971 | 0.037 | 2.022 | |
| NBumi_FitModel | 2.790 | 0.104 | 2.920 | |
| NBumi_TradDE | 0 | 0 | 0 | |
| NewSimulations | 208.128 | 19.488 | 229.566 | |
| Other_FS | 0.290 | 0.013 | 0.307 | |
| PoissonUMIFeatureSelectionDropouts | 2.444 | 0.090 | 2.559 | |
| bg__fit_gamma | 0.001 | 0.000 | 0.000 | |
| bg__get_stats | 0.001 | 0.000 | 0.001 | |
| bg__mean2disp | 0.001 | 0.000 | 0.000 | |
| bg__shift_size | 0.001 | 0.000 | 0.000 | |
| bg__var_vs_drop | 0.000 | 0.000 | 0.001 | |