| Back to Multiple platform build/check report for BioC 3.9 | 
 | 
This page was generated on 2019-04-09 12:43:05 -0400 (Tue, 09 Apr 2019).
| Package 871/1703 | Hostname | OS / Arch | INSTALL | BUILD | CHECK | BUILD BIN | ||||||
| LoomExperiment 1.1.7 Bioconductor Package Maintainer 
 | malbec2 | Linux (Ubuntu 18.04.2 LTS) / x86_64 | OK | OK | OK |  | ||||||
| tokay2 | Windows Server 2012 R2 Standard / x64 | OK | OK | OK | [ OK ] |  | ||||||
| celaya2 | OS X 10.11.6 El Capitan / x86_64 | OK | OK | OK | OK |  | ||||||
| merida2 | OS X 10.11.6 El Capitan / x86_64 | OK | OK | OK | OK | 
| Package: LoomExperiment | 
| Version: 1.1.7 | 
| Command: rm -rf LoomExperiment.buildbin-libdir && mkdir LoomExperiment.buildbin-libdir && C:\Users\biocbuild\bbs-3.9-bioc\R\bin\R.exe CMD INSTALL --merge-multiarch --build --library=LoomExperiment.buildbin-libdir LoomExperiment_1.1.7.tar.gz | 
| StartedAt: 2019-04-09 08:21:38 -0400 (Tue, 09 Apr 2019) | 
| EndedAt: 2019-04-09 08:22:32 -0400 (Tue, 09 Apr 2019) | 
| EllapsedTime: 54.0 seconds | 
| RetCode: 0 | 
| Status: OK | 
| PackageFile: LoomExperiment_1.1.7.zip | 
| PackageFileSize: 1.141 MiB | 
##############################################################################
##############################################################################
###
### Running command:
###
###   rm -rf LoomExperiment.buildbin-libdir && mkdir LoomExperiment.buildbin-libdir && C:\Users\biocbuild\bbs-3.9-bioc\R\bin\R.exe CMD INSTALL --merge-multiarch --build --library=LoomExperiment.buildbin-libdir LoomExperiment_1.1.7.tar.gz
###
##############################################################################
##############################################################################
install for i386
* installing *source* package 'LoomExperiment' ...
** R
** inst
** byte-compile and prepare package for lazy loading
** help
*** installing help indices
  converting help for package 'LoomExperiment'
    finding HTML links ... done
    L1_DRG_20_example                       html  
    LoomExperiment-class                    html  
    finding level-2 HTML links ... done
    LoomFile-class                          html  
    LoomGraph-class                         html  
    LoomGraphs-class                        html  
    export-method                           html  
    import-method                           html  
** building package indices
** installing vignettes
** testing if installed package can be loaded from temporary location
** testing if installed package can be loaded from final location
** testing if installed package keeps a record of temporary installation path
install for x64
* installing *source* package 'LoomExperiment' ...
** testing if installed package can be loaded
* MD5 sums
packaged installation of 'LoomExperiment' as LoomExperiment_1.1.7.zip
* DONE (LoomExperiment)