| Back to Multiple platform build/check report for BioC 3.9 |
|
This page was generated on 2019-04-09 12:29:18 -0400 (Tue, 09 Apr 2019).
| Package 868/1703 | Hostname | OS / Arch | INSTALL | BUILD | CHECK | BUILD BIN | ||||||
| Logolas 1.7.0 Kushal Dey
| malbec2 | Linux (Ubuntu 18.04.2 LTS) / x86_64 | OK | OK | OK | |||||||
| tokay2 | Windows Server 2012 R2 Standard / x64 | [ OK ] | OK | OK | OK | |||||||
| celaya2 | OS X 10.11.6 El Capitan / x86_64 | OK | OK | OK | OK | |||||||
| merida2 | OS X 10.11.6 El Capitan / x86_64 | OK | OK | OK | OK |
| Package: Logolas |
| Version: 1.7.0 |
| Command: C:\cygwin\bin\curl.exe -O https://malbec2.bioconductor.org/BBS/3.9/bioc/src/contrib/Logolas_1.7.0.tar.gz && rm -rf Logolas.buildbin-libdir && mkdir Logolas.buildbin-libdir && C:\Users\biocbuild\bbs-3.9-bioc\R\bin\R.exe CMD INSTALL --merge-multiarch --build --library=Logolas.buildbin-libdir Logolas_1.7.0.tar.gz && C:\Users\biocbuild\bbs-3.9-bioc\R\bin\R.exe CMD INSTALL Logolas_1.7.0.zip && rm Logolas_1.7.0.tar.gz Logolas_1.7.0.zip |
| StartedAt: 2019-04-08 19:20:26 -0400 (Mon, 08 Apr 2019) |
| EndedAt: 2019-04-08 19:21:09 -0400 (Mon, 08 Apr 2019) |
| EllapsedTime: 42.9 seconds |
| RetCode: 0 |
| Status: OK |
##############################################################################
##############################################################################
###
### Running command:
###
### C:\cygwin\bin\curl.exe -O https://malbec2.bioconductor.org/BBS/3.9/bioc/src/contrib/Logolas_1.7.0.tar.gz && rm -rf Logolas.buildbin-libdir && mkdir Logolas.buildbin-libdir && C:\Users\biocbuild\bbs-3.9-bioc\R\bin\R.exe CMD INSTALL --merge-multiarch --build --library=Logolas.buildbin-libdir Logolas_1.7.0.tar.gz && C:\Users\biocbuild\bbs-3.9-bioc\R\bin\R.exe CMD INSTALL Logolas_1.7.0.zip && rm Logolas_1.7.0.tar.gz Logolas_1.7.0.zip
###
##############################################################################
##############################################################################
% Total % Received % Xferd Average Speed Time Time Time Current
Dload Upload Total Spent Left Speed
0 0 0 0 0 0 0 0 --:--:-- --:--:-- --:--:-- 0
100 1228k 100 1228k 0 0 17.4M 0 --:--:-- --:--:-- --:--:-- 19.6M
install for i386
* installing *source* package 'Logolas' ...
** R
** data
*** moving datasets to lazyload DB
** demo
** inst
** byte-compile and prepare package for lazy loading
** help
*** installing help indices
converting help for package 'Logolas'
finding HTML links ... done
EBF1_disc1 html
GetConsensusSeq html
UMI html
aRxiv html
get_logo_heights html
get_plot html
get_viewport_logo html
himalayan_fauna html
histone_marks html
logo_pssm html
logomaker html
makemylogo html
mutation_sig html
nlogomaker html
plogomaker html
pssm html
seqlogo_example html
** building package indices
** installing vignettes
** testing if installed package can be loaded from temporary location
** testing if installed package can be loaded from final location
** testing if installed package keeps a record of temporary installation path
install for x64
* installing *source* package 'Logolas' ...
** testing if installed package can be loaded
* MD5 sums
packaged installation of 'Logolas' as Logolas_1.7.0.zip
* DONE (Logolas)
* installing to library 'C:/Users/biocbuild/bbs-3.9-bioc/R/library'
package 'Logolas' successfully unpacked and MD5 sums checked