| Back to Multiple platform build/check report for BioC 3.9 |
|
This page was generated on 2019-04-09 12:41:06 -0400 (Tue, 09 Apr 2019).
| Package 877/1703 | Hostname | OS / Arch | INSTALL | BUILD | CHECK | BUILD BIN | ||||||
| LRBaseDbi 1.1.0 Koki Tsuyuzaki
| malbec2 | Linux (Ubuntu 18.04.2 LTS) / x86_64 | OK | OK | OK | |||||||
| tokay2 | Windows Server 2012 R2 Standard / x64 | [ OK ] | OK | OK | OK | |||||||
| celaya2 | OS X 10.11.6 El Capitan / x86_64 | OK | OK | OK | OK | |||||||
| merida2 | OS X 10.11.6 El Capitan / x86_64 | OK | OK | OK | OK |
| Package: LRBaseDbi |
| Version: 1.1.0 |
| Command: C:\cygwin\bin\curl.exe -O https://malbec2.bioconductor.org/BBS/3.9/bioc/src/contrib/LRBaseDbi_1.1.0.tar.gz && rm -rf LRBaseDbi.buildbin-libdir && mkdir LRBaseDbi.buildbin-libdir && C:\Users\biocbuild\bbs-3.9-bioc\R\bin\R.exe CMD INSTALL --merge-multiarch --build --library=LRBaseDbi.buildbin-libdir LRBaseDbi_1.1.0.tar.gz && C:\Users\biocbuild\bbs-3.9-bioc\R\bin\R.exe CMD INSTALL LRBaseDbi_1.1.0.zip && rm LRBaseDbi_1.1.0.tar.gz LRBaseDbi_1.1.0.zip |
| StartedAt: 2019-04-08 18:48:58 -0400 (Mon, 08 Apr 2019) |
| EndedAt: 2019-04-08 18:49:37 -0400 (Mon, 08 Apr 2019) |
| EllapsedTime: 39.1 seconds |
| RetCode: 0 |
| Status: OK |
##############################################################################
##############################################################################
###
### Running command:
###
### C:\cygwin\bin\curl.exe -O https://malbec2.bioconductor.org/BBS/3.9/bioc/src/contrib/LRBaseDbi_1.1.0.tar.gz && rm -rf LRBaseDbi.buildbin-libdir && mkdir LRBaseDbi.buildbin-libdir && C:\Users\biocbuild\bbs-3.9-bioc\R\bin\R.exe CMD INSTALL --merge-multiarch --build --library=LRBaseDbi.buildbin-libdir LRBaseDbi_1.1.0.tar.gz && C:\Users\biocbuild\bbs-3.9-bioc\R\bin\R.exe CMD INSTALL LRBaseDbi_1.1.0.zip && rm LRBaseDbi_1.1.0.tar.gz LRBaseDbi_1.1.0.zip
###
##############################################################################
##############################################################################
% Total % Received % Xferd Average Speed Time Time Time Current
Dload Upload Total Spent Left Speed
0 0 0 0 0 0 0 0 --:--:-- --:--:-- --:--:-- 0
100 22093 100 22093 0 0 380k 0 --:--:-- --:--:-- --:--:-- 440k
install for i386
* installing *source* package 'LRBaseDbi' ...
** R
** data
** inst
** byte-compile and prepare package for lazy loading
** help
*** installing help indices
converting help for package 'LRBaseDbi'
finding HTML links ... done
FANTOM5 html
LRBaseDb html
columns html
dbInfo html
dbconn html
dbfile html
dbschema html
keys html
keytypes html
lrListDatabases html
lrNomenclature html
lrPackageName html
lrVersion html
makeLRBasePackage html
metaFANTOM5 html
select html
species html
** building package indices
** installing vignettes
** testing if installed package can be loaded from temporary location
** testing if installed package can be loaded from final location
** testing if installed package keeps a record of temporary installation path
install for x64
* installing *source* package 'LRBaseDbi' ...
** testing if installed package can be loaded
* MD5 sums
packaged installation of 'LRBaseDbi' as LRBaseDbi_1.1.0.zip
* DONE (LRBaseDbi)
* installing to library 'C:/Users/biocbuild/bbs-3.9-bioc/R/library'
package 'LRBaseDbi' successfully unpacked and MD5 sums checked