| Back to Multiple platform build/check report for BioC 3.9 |
|
This page was generated on 2019-04-09 12:24:53 -0400 (Tue, 09 Apr 2019).
| Package 870/1703 | Hostname | OS / Arch | INSTALL | BUILD | CHECK | BUILD BIN | ||||||
| LOLA 1.13.0 Nathan Sheffield
| malbec2 | Linux (Ubuntu 18.04.2 LTS) / x86_64 | OK | OK | OK | |||||||
| tokay2 | Windows Server 2012 R2 Standard / x64 | OK | OK | OK | [ OK ] | |||||||
| celaya2 | OS X 10.11.6 El Capitan / x86_64 | OK | OK | OK | OK | |||||||
| merida2 | OS X 10.11.6 El Capitan / x86_64 | OK | OK | OK | OK |
| Package: LOLA |
| Version: 1.13.0 |
| Command: rm -rf LOLA.buildbin-libdir && mkdir LOLA.buildbin-libdir && C:\Users\biocbuild\bbs-3.9-bioc\R\bin\R.exe CMD INSTALL --merge-multiarch --build --library=LOLA.buildbin-libdir LOLA_1.13.0.tar.gz |
| StartedAt: 2019-04-09 08:21:34 -0400 (Tue, 09 Apr 2019) |
| EndedAt: 2019-04-09 08:22:24 -0400 (Tue, 09 Apr 2019) |
| EllapsedTime: 50.2 seconds |
| RetCode: 0 |
| Status: OK |
| PackageFile: LOLA_1.13.0.zip |
| PackageFileSize: 1.278 MiB |
##############################################################################
##############################################################################
###
### Running command:
###
### rm -rf LOLA.buildbin-libdir && mkdir LOLA.buildbin-libdir && C:\Users\biocbuild\bbs-3.9-bioc\R\bin\R.exe CMD INSTALL --merge-multiarch --build --library=LOLA.buildbin-libdir LOLA_1.13.0.tar.gz
###
##############################################################################
##############################################################################
install for i386
* installing *source* package 'LOLA' ...
** R
** data
** inst
** byte-compile and prepare package for lazy loading
** help
*** installing help indices
converting help for package 'LOLA'
finding HTML links ... done
LOLA html
buildRestrictedUniverse html
checkUniverseAppropriateness html
cleanws html
countOverlapsAnyRev html
extractEnrichmentOverlaps html
getRegionFile html
getRegionSet html
lapplyAlias html
listRegionSets html
listToGRangesList html
loadRegionDB html
mergeRegionDBs html
nlist html
plotTopLOLAEnrichments html
readBed html
readCollection html
readCollectionAnnotation html
readCollectionFiles html
readRegionGRL html
readRegionSetAnnotation html
redefineUserSets html
replaceFileExtension html
runLOLA html
sampleGRL html
setLapplyAlias html
setSharedDataDir html
splitDataTable html
splitFileIntoCollection html
userSets html
userUniverse html
write.tsv html
writeCombinedEnrichment html
writeDataTableSplitByColumn html
*** copying figures
** building package indices
** installing vignettes
** testing if installed package can be loaded from temporary location
** testing if installed package can be loaded from final location
** testing if installed package keeps a record of temporary installation path
install for x64
* installing *source* package 'LOLA' ...
** testing if installed package can be loaded
* MD5 sums
packaged installation of 'LOLA' as LOLA_1.13.0.zip
* DONE (LOLA)