| Back to Multiple platform build/check report for BioC 3.9 | 
  | 
This page was generated on 2019-04-09 11:55:35 -0400 (Tue, 09 Apr 2019).
| Package 849/1703 | Hostname | OS / Arch | INSTALL | BUILD | CHECK | BUILD BIN | ||||||
| LBE 1.51.0 Cyril Dalmasso 
  | malbec2 | Linux (Ubuntu 18.04.2 LTS) / x86_64 | OK | OK | OK | |||||||
| tokay2 | Windows Server 2012 R2 Standard / x64 | OK | OK | OK | [ OK ] | |||||||
| celaya2 | OS X 10.11.6 El Capitan / x86_64 | OK | OK | OK | OK | |||||||
| merida2 | OS X 10.11.6 El Capitan / x86_64 | OK | OK | OK | OK | 
| Package: LBE | 
| Version: 1.51.0 | 
| Command: rm -rf LBE.buildbin-libdir && mkdir LBE.buildbin-libdir && C:\Users\biocbuild\bbs-3.9-bioc\R\bin\R.exe CMD INSTALL --merge-multiarch --build --library=LBE.buildbin-libdir LBE_1.51.0.tar.gz | 
| StartedAt: 2019-04-09 08:20:12 -0400 (Tue, 09 Apr 2019) | 
| EndedAt: 2019-04-09 08:20:59 -0400 (Tue, 09 Apr 2019) | 
| EllapsedTime: 47.6 seconds | 
| RetCode: 0 | 
| Status: OK | 
| PackageFile: LBE_1.51.0.zip | 
| PackageFileSize: 442.5 KiB | 
##############################################################################
##############################################################################
###
### Running command:
###
###   rm -rf LBE.buildbin-libdir && mkdir LBE.buildbin-libdir && C:\Users\biocbuild\bbs-3.9-bioc\R\bin\R.exe CMD INSTALL --merge-multiarch --build --library=LBE.buildbin-libdir LBE_1.51.0.tar.gz
###
##############################################################################
##############################################################################
install for i386
* installing *source* package 'LBE' ...
** R
** data
** inst
** byte-compile and prepare package for lazy loading
** help
*** installing help indices
  converting help for package 'LBE'
    finding HTML links ... done
    LBE-package                             html  
    LBE                                     html  
    LBEa                                    html  
    LBEplot                                 html  
    LBEsummary                              html  
    LBEwrite                                html  
    golub.pval                              html  
    hedenfalk.pval                          html  
** building package indices
** installing vignettes
** testing if installed package can be loaded from temporary location
** testing if installed package can be loaded from final location
** testing if installed package keeps a record of temporary installation path
install for x64
* installing *source* package 'LBE' ...
** testing if installed package can be loaded
* MD5 sums
packaged installation of 'LBE' as LBE_1.51.0.zip
* DONE (LBE)