| Back to Multiple platform build/check report for BioC 3.9 | 
 | 
This page was generated on 2019-04-09 13:15:25 -0400 (Tue, 09 Apr 2019).
| Package 836/1703 | Hostname | OS / Arch | INSTALL | BUILD | CHECK | BUILD BIN | ||||||
| JunctionSeq 1.13.1 Stephen Hartley 
 | malbec2 | Linux (Ubuntu 18.04.2 LTS) / x86_64 | OK | OK | OK |  | ||||||
| tokay2 | Windows Server 2012 R2 Standard / x64 | OK | OK | OK | OK |  | ||||||
| celaya2 | OS X 10.11.6 El Capitan / x86_64 | OK | OK | [ OK ] | OK |  | ||||||
| merida2 | OS X 10.11.6 El Capitan / x86_64 | OK | OK | OK | OK | 
| Package: JunctionSeq | 
| Version: 1.13.1 | 
| Command: /Library/Frameworks/R.framework/Versions/Current/Resources/bin/R CMD check --install=check:JunctionSeq.install-out.txt --library=/Library/Frameworks/R.framework/Versions/Current/Resources/library --no-vignettes --timings JunctionSeq_1.13.1.tar.gz | 
| StartedAt: 2019-04-09 03:00:42 -0400 (Tue, 09 Apr 2019) | 
| EndedAt: 2019-04-09 03:06:06 -0400 (Tue, 09 Apr 2019) | 
| EllapsedTime: 323.5 seconds | 
| RetCode: 0 | 
| Status: OK | 
| CheckDir: JunctionSeq.Rcheck | 
| Warnings: 0 | 
##############################################################################
##############################################################################
###
### Running command:
###
###   /Library/Frameworks/R.framework/Versions/Current/Resources/bin/R CMD check --install=check:JunctionSeq.install-out.txt --library=/Library/Frameworks/R.framework/Versions/Current/Resources/library --no-vignettes --timings JunctionSeq_1.13.1.tar.gz
###
##############################################################################
##############################################################################
* using log directory ‘/Users/biocbuild/bbs-3.9-bioc/meat/JunctionSeq.Rcheck’
* using R Under development (unstable) (2019-03-18 r76245)
* using platform: x86_64-apple-darwin15.6.0 (64-bit)
* using session charset: UTF-8
* using option ‘--no-vignettes’
* checking for file ‘JunctionSeq/DESCRIPTION’ ... OK
* this is package ‘JunctionSeq’ version ‘1.13.1’
* checking package namespace information ... OK
* checking package dependencies ... OK
* checking if this is a source package ... OK
* checking if there is a namespace ... OK
* checking for hidden files and directories ... OK
* checking for portable file names ... OK
* checking for sufficient/correct file permissions ... OK
* checking whether package ‘JunctionSeq’ can be installed ... OK
* checking installed package size ... OK
* checking package directory ... OK
* checking ‘build’ directory ... OK
* checking DESCRIPTION meta-information ... OK
* checking top-level files ... OK
* checking for left-over files ... OK
* checking index information ... OK
* checking package subdirectories ... OK
* checking R files for non-ASCII characters ... OK
* checking R files for syntax errors ... OK
* checking whether the package can be loaded ... OK
* checking whether the package can be loaded with stated dependencies ... OK
* checking whether the package can be unloaded cleanly ... OK
* checking whether the namespace can be loaded with stated dependencies ... OK
* checking whether the namespace can be unloaded cleanly ... OK
* checking dependencies in R code ... NOTE
Packages in Depends field not imported from:
  ‘Rcpp’ ‘RcppArmadillo’
  These packages need to be imported from (in the NAMESPACE file)
  for when this namespace is loaded but not attached.
* checking S3 generic/method consistency ... OK
* checking replacement functions ... OK
* checking foreign function calls ... OK
* checking R code for possible problems ... OK
* checking Rd files ... NOTE
prepare_Rd: setJunctionSeqCompiledSourcePackage.Rd:23-25: Dropping empty section \examples
* checking Rd metadata ... OK
* checking Rd cross-references ... OK
* checking for missing documentation entries ... OK
* checking for code/documentation mismatches ... OK
* checking Rd \usage sections ... OK
* checking Rd contents ... OK
* checking for unstated dependencies in examples ... OK
* checking line endings in C/C++/Fortran sources/headers ... OK
* checking line endings in Makefiles ... OK
* checking compilation flags in Makevars ... OK
* checking for GNU extensions in Makefiles ... OK
* checking for portable use of $(BLAS_LIBS) and $(LAPACK_LIBS) ... OK
* checking compiled code ... NOTE
Note: information on .o files is not available
* checking sizes of PDF files under ‘inst/doc’ ... OK
* checking installed files from ‘inst/doc’ ... OK
* checking files in ‘vignettes’ ... OK
* checking examples ... OK
Examples with CPU or elapsed time > 5s
                user system elapsed
buildAllPlots 20.316  3.602  23.386
* checking for unstated dependencies in vignettes ... OK
* checking package vignettes in ‘inst/doc’ ... OK
* checking running R code from vignettes ... SKIPPED
* checking re-building of vignette outputs ... SKIPPED
* checking PDF version of manual ... OK
* DONE
Status: 3 NOTEs
See
  ‘/Users/biocbuild/bbs-3.9-bioc/meat/JunctionSeq.Rcheck/00check.log’
for details.
JunctionSeq.Rcheck/00install.out
############################################################################## ############################################################################## ### ### Running command: ### ### /Library/Frameworks/R.framework/Versions/Current/Resources/bin/R CMD INSTALL JunctionSeq ### ############################################################################## ############################################################################## * installing to library ‘/Library/Frameworks/R.framework/Versions/3.6/Resources/library’ * installing *source* package ‘JunctionSeq’ ... ** using staged installation ** libs clang++ -std=gnu++11 -I"/Library/Frameworks/R.framework/Resources/include" -DNDEBUG -I"/Library/Frameworks/R.framework/Versions/3.6/Resources/library/Rcpp/include" -I"/Library/Frameworks/R.framework/Versions/3.6/Resources/library/RcppArmadillo/include" -I/usr/local/include -fPIC -Wall -g -O2 -c DESeq2.cpp -o DESeq2.o clang++ -std=gnu++11 -I"/Library/Frameworks/R.framework/Resources/include" -DNDEBUG -I"/Library/Frameworks/R.framework/Versions/3.6/Resources/library/Rcpp/include" -I"/Library/Frameworks/R.framework/Versions/3.6/Resources/library/RcppArmadillo/include" -I/usr/local/include -fPIC -Wall -g -O2 -c RcppExports.cpp -o RcppExports.o clang++ -std=gnu++11 -dynamiclib -Wl,-headerpad_max_install_names -undefined dynamic_lookup -single_module -multiply_defined suppress -L/Library/Frameworks/R.framework/Resources/lib -L/usr/local/lib -o JunctionSeq.so DESeq2.o RcppExports.o -L/Library/Frameworks/R.framework/Resources/lib -lRlapack -L/Library/Frameworks/R.framework/Resources/lib -lRblas -L/usr/local/gfortran/lib/gcc/x86_64-apple-darwin15/6.1.0 -L/usr/local/gfortran/lib -lgfortran -lquadmath -lm -F/Library/Frameworks/R.framework/.. -framework R -Wl,-framework -Wl,CoreFoundation installing to /Library/Frameworks/R.framework/Versions/3.6/Resources/library/00LOCK-JunctionSeq/00new/JunctionSeq/libs ** R ** inst ** byte-compile and prepare package for lazy loading ** help *** installing help indices ** building package indices ** installing vignettes ‘JunctionSeq.Rnw’ ** testing if installed package can be loaded from temporary location ** checking absolute paths in shared objects and dynamic libraries ** testing if installed package can be loaded from final location ** testing if installed package keeps a record of temporary installation path * DONE (JunctionSeq)
JunctionSeq.Rcheck/JunctionSeq-Ex.timings
| name | user | system | elapsed | |
| JunctionSeqCountSet-class | 0.005 | 0.001 | 0.007 | |
| buildAllPlots | 20.316 | 3.602 | 23.386 | |
| buildAllPlotsForGene | 2.721 | 0.658 | 3.084 | |
| defaultColorList | 2.819 | 0.556 | 3.176 | |
| estimateEffectSizes | 4.213 | 0.043 | 4.257 | |
| estimateJunctionSeqDispersions | 0.001 | 0.001 | 0.002 | |
| estimateJunctionSeqSizeFactors | 0.387 | 0.006 | 0.395 | |
| fitJunctionSeqDispersionFunction | 0.674 | 0.023 | 0.700 | |
| plotDispEsts | 0.627 | 0.009 | 0.636 | |
| plotJunctionSeqResultsForGene | 0.094 | 0.005 | 0.099 | |
| plotMA | 0.423 | 0.054 | 0.478 | |
| readAnnotationData | 0.674 | 0.009 | 0.684 | |
| readJunctionSeqCounts | 0.684 | 0.009 | 0.694 | |
| runJunctionSeqAnalyses | 0.001 | 0.001 | 0.001 | |
| testForDiffUsage | 1.454 | 0.059 | 1.501 | |
| writeBedTrack | 0.063 | 0.016 | 0.079 | |
| writeCompleteResults | 0.446 | 0.023 | 0.470 | |