| Back to Multiple platform build/check report for BioC 3.9 |
|
This page was generated on 2019-04-09 12:23:24 -0400 (Tue, 09 Apr 2019).
| Package 800/1703 | Hostname | OS / Arch | INSTALL | BUILD | CHECK | BUILD BIN | ||||||
| InPAS 1.15.1 Jianhong Ou
| malbec2 | Linux (Ubuntu 18.04.2 LTS) / x86_64 | OK | ERROR | skipped | |||||||
| tokay2 | Windows Server 2012 R2 Standard / x64 | [ OK ] | ERROR | skipped | skipped | |||||||
| celaya2 | OS X 10.11.6 El Capitan / x86_64 | OK | ERROR | skipped | skipped | |||||||
| merida2 | OS X 10.11.6 El Capitan / x86_64 | OK | ERROR | skipped | skipped |
| Package: InPAS |
| Version: 1.15.1 |
| Command: C:\cygwin\bin\curl.exe -O https://malbec2.bioconductor.org/BBS/3.9/bioc/src/contrib/InPAS_1.15.1.tar.gz && rm -rf InPAS.buildbin-libdir && mkdir InPAS.buildbin-libdir && C:\Users\biocbuild\bbs-3.9-bioc\R\bin\R.exe CMD INSTALL --merge-multiarch --build --library=InPAS.buildbin-libdir InPAS_1.15.1.tar.gz && C:\Users\biocbuild\bbs-3.9-bioc\R\bin\R.exe CMD INSTALL InPAS_1.15.1.zip && rm InPAS_1.15.1.tar.gz InPAS_1.15.1.zip |
| StartedAt: 2019-04-08 20:32:54 -0400 (Mon, 08 Apr 2019) |
| EndedAt: 2019-04-08 20:34:45 -0400 (Mon, 08 Apr 2019) |
| EllapsedTime: 111.4 seconds |
| RetCode: 0 |
| Status: OK |
##############################################################################
##############################################################################
###
### Running command:
###
### C:\cygwin\bin\curl.exe -O https://malbec2.bioconductor.org/BBS/3.9/bioc/src/contrib/InPAS_1.15.1.tar.gz && rm -rf InPAS.buildbin-libdir && mkdir InPAS.buildbin-libdir && C:\Users\biocbuild\bbs-3.9-bioc\R\bin\R.exe CMD INSTALL --merge-multiarch --build --library=InPAS.buildbin-libdir InPAS_1.15.1.tar.gz && C:\Users\biocbuild\bbs-3.9-bioc\R\bin\R.exe CMD INSTALL InPAS_1.15.1.zip && rm InPAS_1.15.1.tar.gz InPAS_1.15.1.zip
###
##############################################################################
##############################################################################
% Total % Received % Xferd Average Speed Time Time Time Current
Dload Upload Total Spent Left Speed
0 0 0 0 0 0 0 0 --:--:-- --:--:-- --:--:-- 0
100 2774k 100 2774k 0 0 29.0M 0 --:--:-- --:--:-- --:--:-- 31.5M
install for i386
* installing *source* package 'InPAS' ...
** R
** data
** inst
** byte-compile and prepare package for lazy loading
** help
*** installing help indices
converting help for package 'InPAS'
finding HTML links ... done
CPsite_estimation html
CPsites html
InPAS-package html
PAscore html
PAscore2 html
UTR3TotalCoverage html
UTR3eSet html
UTR3usage html
covThreshold html
coverageFromBedGraph html
coverageRate html
depthWeight html
distalAdj html
filterRes html
fisher.exact.test html
get.regions.coverage html
getCov html
getUTR3eSet html
getUTR3region html
inPAS html
lastCDSusage html
limmaAnalyze html
optimalSegmentation html
polishCPs html
prepare4GSEA html
proximalAdj html
proximalAdjByCleanUpdTSeq html
proximalAdjByPWM html
removeUTR3__UTR3 html
searchDistalCPs html
searchProximalCPs html
seqLen html
singleGroupAnalyze html
singleSampleAnalyze html
finding level-2 HTML links ... done
sortGR html
testUsage html
totalCoverage html
trimSeqnames html
usage4plot html
utr3.danRer10 html
utr3.hg19 html
utr3.mm10 html
utr3Annotation html
utr3UsageEstimation html
valley html
zScoreThrethold html
** building package indices
** installing vignettes
** testing if installed package can be loaded from temporary location
** testing if installed package can be loaded from final location
** testing if installed package keeps a record of temporary installation path
install for x64
* installing *source* package 'InPAS' ...
** testing if installed package can be loaded
* MD5 sums
packaged installation of 'InPAS' as InPAS_1.15.1.zip
* DONE (InPAS)
* installing to library 'C:/Users/biocbuild/bbs-3.9-bioc/R/library'
package 'InPAS' successfully unpacked and MD5 sums checked