| Back to Multiple platform build/check report for BioC 3.9 | 
 | 
This page was generated on 2019-04-09 12:26:38 -0400 (Tue, 09 Apr 2019).
| Package 793/1703 | Hostname | OS / Arch | INSTALL | BUILD | CHECK | BUILD BIN | ||||||
| ImmuneSpaceR 1.11.5 ImmuneSpace Package Maintainer 
 | malbec2 | Linux (Ubuntu 18.04.2 LTS) / x86_64 | OK | OK | OK |  | ||||||
| tokay2 | Windows Server 2012 R2 Standard / x64 | OK | OK | WARNINGS | [ OK ] |  | ||||||
| celaya2 | OS X 10.11.6 El Capitan / x86_64 | OK | OK | OK | OK |  | ||||||
| merida2 | OS X 10.11.6 El Capitan / x86_64 | OK | OK | OK | OK | 
| Package: ImmuneSpaceR | 
| Version: 1.11.5 | 
| Command: rm -rf ImmuneSpaceR.buildbin-libdir && mkdir ImmuneSpaceR.buildbin-libdir && C:\Users\biocbuild\bbs-3.9-bioc\R\bin\R.exe CMD INSTALL --merge-multiarch --build --library=ImmuneSpaceR.buildbin-libdir ImmuneSpaceR_1.11.5.tar.gz | 
| StartedAt: 2019-04-09 08:16:42 -0400 (Tue, 09 Apr 2019) | 
| EndedAt: 2019-04-09 08:17:37 -0400 (Tue, 09 Apr 2019) | 
| EllapsedTime: 54.7 seconds | 
| RetCode: 0 | 
| Status: OK | 
| PackageFile: ImmuneSpaceR_1.11.5.zip | 
| PackageFileSize: 783.7 KiB | 
##############################################################################
##############################################################################
###
### Running command:
###
###   rm -rf ImmuneSpaceR.buildbin-libdir && mkdir ImmuneSpaceR.buildbin-libdir && C:\Users\biocbuild\bbs-3.9-bioc\R\bin\R.exe CMD INSTALL --merge-multiarch --build --library=ImmuneSpaceR.buildbin-libdir ImmuneSpaceR_1.11.5.tar.gz
###
##############################################################################
##############################################################################
install for i386
* installing *source* package 'ImmuneSpaceR' ...
** R
** inst
** byte-compile and prepare package for lazy loading
** help
*** installing help indices
  converting help for package 'ImmuneSpaceR'
    finding HTML links ... done
    CreateConnection                        html  
    ISpalette                               html  
    ImmuneSpaceConnection                   html  
Rd warning: C:/Users/biocbuild/bbs-3.9-bioc/tmpdir/RtmpUDlDQD/R.INSTALL1cf8b781e26/ImmuneSpaceR/man/ImmuneSpaceConnection.Rd:118: file link 'load_gs' in package 'flowWorkspace' does not exist and so has been treated as a topic
    ImmuneSpaceR-package                    html  
    check_netrc                             html  
    interactive_netrc                       html  
    loadConnection                          html  
    template_IS                             html  
    theme_IS                                html  
    write_netrc                             html  
*** copying figures
** building package indices
** installing vignettes
** testing if installed package can be loaded from temporary location
** testing if installed package can be loaded from final location
** testing if installed package keeps a record of temporary installation path
install for x64
* installing *source* package 'ImmuneSpaceR' ...
** testing if installed package can be loaded
* MD5 sums
packaged installation of 'ImmuneSpaceR' as ImmuneSpaceR_1.11.5.zip
* DONE (ImmuneSpaceR)