| Back to Multiple platform build/check report for BioC 3.9 |
|
This page was generated on 2019-04-09 11:56:33 -0400 (Tue, 09 Apr 2019).
| Package 827/1703 | Hostname | OS / Arch | INSTALL | BUILD | CHECK | BUILD BIN | ||||||
| ITALICS 2.43.0 Guillem Rigaill
| malbec2 | Linux (Ubuntu 18.04.2 LTS) / x86_64 | OK | OK | OK | |||||||
| tokay2 | Windows Server 2012 R2 Standard / x64 | OK | OK | OK | [ OK ] | |||||||
| celaya2 | OS X 10.11.6 El Capitan / x86_64 | OK | OK | OK | OK | |||||||
| merida2 | OS X 10.11.6 El Capitan / x86_64 | OK | OK | OK | OK |
| Package: ITALICS |
| Version: 2.43.0 |
| Command: rm -rf ITALICS.buildbin-libdir && mkdir ITALICS.buildbin-libdir && C:\Users\biocbuild\bbs-3.9-bioc\R\bin\R.exe CMD INSTALL --merge-multiarch --build --library=ITALICS.buildbin-libdir ITALICS_2.43.0.tar.gz |
| StartedAt: 2019-04-09 08:18:50 -0400 (Tue, 09 Apr 2019) |
| EndedAt: 2019-04-09 08:19:32 -0400 (Tue, 09 Apr 2019) |
| EllapsedTime: 41.8 seconds |
| RetCode: 0 |
| Status: OK |
| PackageFile: ITALICS_2.43.0.zip |
| PackageFileSize: 332 KiB |
##############################################################################
##############################################################################
###
### Running command:
###
### rm -rf ITALICS.buildbin-libdir && mkdir ITALICS.buildbin-libdir && C:\Users\biocbuild\bbs-3.9-bioc\R\bin\R.exe CMD INSTALL --merge-multiarch --build --library=ITALICS.buildbin-libdir ITALICS_2.43.0.tar.gz
###
##############################################################################
##############################################################################
install for i386
* installing *source* package 'ITALICS' ...
** R
** inst
** byte-compile and prepare package for lazy loading
** help
*** installing help indices
converting help for package 'ITALICS'
finding HTML links ... done
GLAD.GLAD html
ITALICSNew html
ITALICSTrain html
Model.GetConfDat html
Model.GetCorrection html
Model.GetEffet html
Model.GetModel html
Model.GetResidu html
New.AddInfo html
New.fromQuartetToSnp html
New.fromSnpToQuartet html
New.getQuartet html
New.getSnpInfo html
New.readQuartetCopyNb html
** building package indices
** installing vignettes
** testing if installed package can be loaded from temporary location
** testing if installed package can be loaded from final location
** testing if installed package keeps a record of temporary installation path
install for x64
* installing *source* package 'ITALICS' ...
** testing if installed package can be loaded
* MD5 sums
packaged installation of 'ITALICS' as ITALICS_2.43.0.zip
* DONE (ITALICS)