| Back to Multiple platform build/check report for BioC 3.9 | 
 | 
This page was generated on 2019-04-09 11:58:42 -0400 (Tue, 09 Apr 2019).
| Package 816/1703 | Hostname | OS / Arch | INSTALL | BUILD | CHECK | BUILD BIN | ||||||
| IPPD 1.31.0 Martin Slawski 
 | malbec2 | Linux (Ubuntu 18.04.2 LTS) / x86_64 | OK | OK | OK |  | ||||||
| tokay2 | Windows Server 2012 R2 Standard / x64 | OK | OK | OK | [ OK ] |  | ||||||
| celaya2 | OS X 10.11.6 El Capitan / x86_64 | OK | OK | OK | OK |  | ||||||
| merida2 | OS X 10.11.6 El Capitan / x86_64 | OK | OK | OK | OK | 
| Package: IPPD | 
| Version: 1.31.0 | 
| Command: rm -rf IPPD.buildbin-libdir && mkdir IPPD.buildbin-libdir && C:\Users\biocbuild\bbs-3.9-bioc\R\bin\R.exe CMD INSTALL --merge-multiarch --build --library=IPPD.buildbin-libdir IPPD_1.31.0.tar.gz | 
| StartedAt: 2019-04-09 08:18:07 -0400 (Tue, 09 Apr 2019) | 
| EndedAt: 2019-04-09 08:18:46 -0400 (Tue, 09 Apr 2019) | 
| EllapsedTime: 39.0 seconds | 
| RetCode: 0 | 
| Status: OK | 
| PackageFile: IPPD_1.31.0.zip | 
| PackageFileSize: 1.694 MiB | 
##############################################################################
##############################################################################
###
### Running command:
###
###   rm -rf IPPD.buildbin-libdir && mkdir IPPD.buildbin-libdir && C:\Users\biocbuild\bbs-3.9-bioc\R\bin\R.exe CMD INSTALL --merge-multiarch --build --library=IPPD.buildbin-libdir IPPD_1.31.0.tar.gz
###
##############################################################################
##############################################################################
install for i386
* installing *source* package 'IPPD' ...
** libs
C:/Rtools/mingw_32/bin/gcc  -I"C:/Users/BIOCBU˜1/BBS-3˜1.9-B/R/include" -DNDEBUG     -I"C:/extsoft/include"     -O3 -Wall  -std=gnu99 -mtune=generic -c R_init_IPPD.c -o R_init_IPPD.o
R_init_IPPD.c:29:1: warning: missing braces around initializer [-Wmissing-braces]
 };
 ^
R_init_IPPD.c:29:1: warning: (near initialization for 'cmethods[10]') [-Wmissing-braces]
C:/Rtools/mingw_32/bin/gcc -shared -s -static-libgcc -o IPPD.dll tmp.def R_init_IPPD.o -LC:/extsoft/lib/i386 -LC:/extsoft/lib -LC:/Users/BIOCBU˜1/BBS-3˜1.9-B/R/bin/i386 -lR
installing to C:/Users/biocbuild/bbs-3.9-bioc/meat/IPPD.buildbin-libdir/00LOCK-IPPD/00new/IPPD/libs/i386
** R
** data
** inst
** byte-compile and prepare package for lazy loading
** help
*** installing help indices
  converting help for package 'IPPD'
    finding HTML links ... done
    IPPD-package                            html  
    analyzeLCMS                             html  
    fitModelParameters                      html  
    getPeaklist                             html  
    internals                               html  
    modelfit-class                          html  
    myo500                                  html  
    peaklist-class                          html  
    read.mzXML                              html  
    sweepline                               html  
    toyspectrum                             html  
** building package indices
** installing vignettes
** testing if installed package can be loaded from temporary location
** testing if installed package can be loaded from final location
** testing if installed package keeps a record of temporary installation path
install for x64
* installing *source* package 'IPPD' ...
** libs
C:/Rtools/mingw_64/bin/gcc  -I"C:/Users/BIOCBU˜1/BBS-3˜1.9-B/R/include" -DNDEBUG     -I"C:/extsoft/include"     -O2 -Wall  -std=gnu99 -mtune=generic -c R_init_IPPD.c -o R_init_IPPD.o
R_init_IPPD.c:29:1: warning: missing braces around initializer [-Wmissing-braces]
 };
 ^
R_init_IPPD.c:29:1: warning: (near initialization for 'cmethods[10]') [-Wmissing-braces]
C:/Rtools/mingw_64/bin/gcc -shared -s -static-libgcc -o IPPD.dll tmp.def R_init_IPPD.o -LC:/extsoft/lib/x64 -LC:/extsoft/lib -LC:/Users/BIOCBU˜1/BBS-3˜1.9-B/R/bin/x64 -lR
installing to C:/Users/biocbuild/bbs-3.9-bioc/meat/IPPD.buildbin-libdir/IPPD/libs/x64
** testing if installed package can be loaded
* MD5 sums
packaged installation of 'IPPD' as IPPD_1.31.0.zip
* DONE (IPPD)