| Back to Multiple platform build/check report for BioC 3.9 |
|
This page was generated on 2019-04-09 12:24:26 -0400 (Tue, 09 Apr 2019).
| Package 812/1703 | Hostname | OS / Arch | INSTALL | BUILD | CHECK | BUILD BIN | ||||||
| IONiseR 2.7.0 Mike Smith
| malbec2 | Linux (Ubuntu 18.04.2 LTS) / x86_64 | OK | OK | OK | |||||||
| tokay2 | Windows Server 2012 R2 Standard / x64 | OK | OK | OK | [ OK ] | |||||||
| celaya2 | OS X 10.11.6 El Capitan / x86_64 | OK | OK | OK | OK | |||||||
| merida2 | OS X 10.11.6 El Capitan / x86_64 | OK | OK | OK | OK |
| Package: IONiseR |
| Version: 2.7.0 |
| Command: rm -rf IONiseR.buildbin-libdir && mkdir IONiseR.buildbin-libdir && C:\Users\biocbuild\bbs-3.9-bioc\R\bin\R.exe CMD INSTALL --merge-multiarch --build --library=IONiseR.buildbin-libdir IONiseR_2.7.0.tar.gz |
| StartedAt: 2019-04-09 08:17:52 -0400 (Tue, 09 Apr 2019) |
| EndedAt: 2019-04-09 08:18:31 -0400 (Tue, 09 Apr 2019) |
| EllapsedTime: 39.0 seconds |
| RetCode: 0 |
| Status: OK |
| PackageFile: IONiseR_2.7.0.zip |
| PackageFileSize: 2.544 MiB |
##############################################################################
##############################################################################
###
### Running command:
###
### rm -rf IONiseR.buildbin-libdir && mkdir IONiseR.buildbin-libdir && C:\Users\biocbuild\bbs-3.9-bioc\R\bin\R.exe CMD INSTALL --merge-multiarch --build --library=IONiseR.buildbin-libdir IONiseR_2.7.0.tar.gz
###
##############################################################################
##############################################################################
install for i386
* installing *source* package 'IONiseR' ...
** R
** inst
** byte-compile and prepare package for lazy loading
** help
*** installing help indices
converting help for package 'IONiseR'
finding HTML links ... done
Fast5Summary-class html
IONiseR html
baseCalled html
channelActivityPlot html
channelHeatmap html
eventData html
fast5toFastq html
fastq html
fastq2D html
fastqComplement html
fastqTemplate html
layoutPlot html
muxHeatmap html
plotActiveChannels html
plotBaseProductionRate html
plotCurrentByTime html
plotEventRate html
plotKmerFrequencyCorrelation html
plotReadAccumulation html
plotReadCategoryCounts html
plotReadCategoryQuals html
plotReadTypeProduction html
readFast5Log html
readFast5Summary html
readInfo html
** building package indices
** installing vignettes
** testing if installed package can be loaded from temporary location
** testing if installed package can be loaded from final location
** testing if installed package keeps a record of temporary installation path
install for x64
* installing *source* package 'IONiseR' ...
** testing if installed package can be loaded
* MD5 sums
packaged installation of 'IONiseR' as IONiseR_2.7.0.zip
* DONE (IONiseR)