| Back to Multiple platform build/check report for BioC 3.9 |
|
This page was generated on 2019-04-09 11:57:34 -0400 (Tue, 09 Apr 2019).
| Package 758/1703 | Hostname | OS / Arch | INSTALL | BUILD | CHECK | BUILD BIN | ||||||
| HTqPCR 1.37.0 Heidi Dvinge
| malbec2 | Linux (Ubuntu 18.04.2 LTS) / x86_64 | OK | OK | OK | |||||||
| tokay2 | Windows Server 2012 R2 Standard / x64 | [ OK ] | OK | WARNINGS | OK | |||||||
| celaya2 | OS X 10.11.6 El Capitan / x86_64 | OK | OK | OK | OK | |||||||
| merida2 | OS X 10.11.6 El Capitan / x86_64 | OK | OK | OK | OK |
| Package: HTqPCR |
| Version: 1.37.0 |
| Command: C:\cygwin\bin\curl.exe -O https://malbec2.bioconductor.org/BBS/3.9/bioc/src/contrib/HTqPCR_1.37.0.tar.gz && rm -rf HTqPCR.buildbin-libdir && mkdir HTqPCR.buildbin-libdir && C:\Users\biocbuild\bbs-3.9-bioc\R\bin\R.exe CMD INSTALL --merge-multiarch --build --library=HTqPCR.buildbin-libdir HTqPCR_1.37.0.tar.gz && C:\Users\biocbuild\bbs-3.9-bioc\R\bin\R.exe CMD INSTALL HTqPCR_1.37.0.zip && rm HTqPCR_1.37.0.tar.gz HTqPCR_1.37.0.zip |
| StartedAt: 2019-04-08 19:13:45 -0400 (Mon, 08 Apr 2019) |
| EndedAt: 2019-04-08 19:15:03 -0400 (Mon, 08 Apr 2019) |
| EllapsedTime: 77.7 seconds |
| RetCode: 0 |
| Status: OK |
##############################################################################
##############################################################################
###
### Running command:
###
### C:\cygwin\bin\curl.exe -O https://malbec2.bioconductor.org/BBS/3.9/bioc/src/contrib/HTqPCR_1.37.0.tar.gz && rm -rf HTqPCR.buildbin-libdir && mkdir HTqPCR.buildbin-libdir && C:\Users\biocbuild\bbs-3.9-bioc\R\bin\R.exe CMD INSTALL --merge-multiarch --build --library=HTqPCR.buildbin-libdir HTqPCR_1.37.0.tar.gz && C:\Users\biocbuild\bbs-3.9-bioc\R\bin\R.exe CMD INSTALL HTqPCR_1.37.0.zip && rm HTqPCR_1.37.0.tar.gz HTqPCR_1.37.0.zip
###
##############################################################################
##############################################################################
% Total % Received % Xferd Average Speed Time Time Time Current
Dload Upload Total Spent Left Speed
0 0 0 0 0 0 0 0 --:--:-- --:--:-- --:--:-- 0
100 873k 100 873k 0 0 11.0M 0 --:--:-- --:--:-- --:--:-- 12.1M
install for i386
* installing *source* package 'HTqPCR' ...
** R
** data
** inst
** byte-compile and prepare package for lazy loading
** help
*** installing help indices
converting help for package 'HTqPCR'
finding HTML links ... done
HTqPCR-package html
cbind html
changeCtLayout html
clusterCt html
filterCategory html
filterCtData html
heatmapSig html
limmaCtData html
Rd warning: C:/Users/biocbuild/bbs-3.9-bioc/tmpdir/Rtmpewri95/R.INSTALLd0c662d77fb/HTqPCR/man/limmaCtData.Rd:29: file link 'duplicateCorrelation' in package 'limma' does not exist and so has been treated as a topic
mannwhitneyCtData html
normalizeCtData html
plotCVBoxes html
plotCtArray html
plotCtBoxes html
plotCtCard html
plotCtCategory html
plotCtCor html
plotCtDensity html
plotCtHeatmap html
plotCtHistogram html
plotCtOverview html
plotCtPCA html
plotCtPairs html
plotCtRQ html
plotCtReps html
plotCtScatter html
plotCtSignificance html
plotCtVariation html
plotGenes html
qPCRpros html
qPCRraw html
qPCRset-class html
finding level-2 HTML links ... done
readCtData html
setCategory html
ttestCtData html
** building package indices
** installing vignettes
** testing if installed package can be loaded from temporary location
** testing if installed package can be loaded from final location
** testing if installed package keeps a record of temporary installation path
install for x64
* installing *source* package 'HTqPCR' ...
** testing if installed package can be loaded
* MD5 sums
packaged installation of 'HTqPCR' as HTqPCR_1.37.0.zip
* DONE (HTqPCR)
* installing to library 'C:/Users/biocbuild/bbs-3.9-bioc/R/library'
package 'HTqPCR' successfully unpacked and MD5 sums checked