| Back to Multiple platform build/check report for BioC 3.9 |
|
This page was generated on 2019-04-09 11:56:28 -0400 (Tue, 09 Apr 2019).
| Package 737/1703 | Hostname | OS / Arch | INSTALL | BUILD | CHECK | BUILD BIN | ||||||
| HELP 1.41.0 Reid F. Thompson
| malbec2 | Linux (Ubuntu 18.04.2 LTS) / x86_64 | OK | OK | OK | |||||||
| tokay2 | Windows Server 2012 R2 Standard / x64 | OK | OK | OK | [ OK ] | |||||||
| celaya2 | OS X 10.11.6 El Capitan / x86_64 | OK | OK | OK | OK | |||||||
| merida2 | OS X 10.11.6 El Capitan / x86_64 | OK | OK | OK | OK |
| Package: HELP |
| Version: 1.41.0 |
| Command: rm -rf HELP.buildbin-libdir && mkdir HELP.buildbin-libdir && C:\Users\biocbuild\bbs-3.9-bioc\R\bin\R.exe CMD INSTALL --merge-multiarch --build --library=HELP.buildbin-libdir HELP_1.41.0.tar.gz |
| StartedAt: 2019-04-09 08:12:26 -0400 (Tue, 09 Apr 2019) |
| EndedAt: 2019-04-09 08:13:50 -0400 (Tue, 09 Apr 2019) |
| EllapsedTime: 84.5 seconds |
| RetCode: 0 |
| Status: OK |
| PackageFile: HELP_1.41.0.zip |
| PackageFileSize: 829 KiB |
##############################################################################
##############################################################################
###
### Running command:
###
### rm -rf HELP.buildbin-libdir && mkdir HELP.buildbin-libdir && C:\Users\biocbuild\bbs-3.9-bioc\R\bin\R.exe CMD INSTALL --merge-multiarch --build --library=HELP.buildbin-libdir HELP_1.41.0.tar.gz
###
##############################################################################
##############################################################################
install for i386
* installing *source* package 'HELP' ...
** R
** data
** demo
** inst
** byte-compile and prepare package for lazy loading
** help
*** installing help indices
converting help for package 'HELP'
finding HTML links ... done
base.stacking.thermodynamics html
calcGC-methods html
calcGC html
calcPrototype-methods html
calcPrototype html
calcTm-methods html
calcTm html
combineData-methods html
combineData html
createWiggle-methods html
createWiggle html
exprs2-methods html
exprs2 html
fuzzyMatches-methods html
fuzzyMatches html
getFeatures-methods html
getFeatures html
getSamples-methods html
getSamples html
plotBins-methods html
plotBins html
plotChip-methods html
plotChip html
plotFeature-methods html
plotFeature html
plotPairs-methods html
plotPairs html
quantileNormalize-methods html
quantileNormalize html
readDesign-methods html
readDesign html
readPairs-methods html
readPairs html
readSampleKey html
** building package indices
** installing vignettes
** testing if installed package can be loaded from temporary location
** testing if installed package can be loaded from final location
** testing if installed package keeps a record of temporary installation path
install for x64
* installing *source* package 'HELP' ...
** testing if installed package can be loaded
* MD5 sums
packaged installation of 'HELP' as HELP_1.41.0.zip
* DONE (HELP)