| Back to Multiple platform build/check report for BioC 3.9 |
|
This page was generated on 2019-04-09 11:53:56 -0400 (Tue, 09 Apr 2019).
| Package 703/1703 | Hostname | OS / Arch | INSTALL | BUILD | CHECK | BUILD BIN | ||||||
| GraphAT 1.55.0 Thomas LaFramboise
| malbec2 | Linux (Ubuntu 18.04.2 LTS) / x86_64 | OK | OK | OK | |||||||
| tokay2 | Windows Server 2012 R2 Standard / x64 | [ OK ] | OK | OK | OK | |||||||
| celaya2 | OS X 10.11.6 El Capitan / x86_64 | OK | OK | OK | OK | |||||||
| merida2 | OS X 10.11.6 El Capitan / x86_64 | OK | OK | OK | OK |
| Package: GraphAT |
| Version: 1.55.0 |
| Command: C:\cygwin\bin\curl.exe -O https://malbec2.bioconductor.org/BBS/3.9/bioc/src/contrib/GraphAT_1.55.0.tar.gz && rm -rf GraphAT.buildbin-libdir && mkdir GraphAT.buildbin-libdir && C:\Users\biocbuild\bbs-3.9-bioc\R\bin\R.exe CMD INSTALL --merge-multiarch --build --library=GraphAT.buildbin-libdir GraphAT_1.55.0.tar.gz && C:\Users\biocbuild\bbs-3.9-bioc\R\bin\R.exe CMD INSTALL GraphAT_1.55.0.zip && rm GraphAT_1.55.0.tar.gz GraphAT_1.55.0.zip |
| StartedAt: 2019-04-08 18:53:56 -0400 (Mon, 08 Apr 2019) |
| EndedAt: 2019-04-08 18:54:45 -0400 (Mon, 08 Apr 2019) |
| EllapsedTime: 49.0 seconds |
| RetCode: 0 |
| Status: OK |
##############################################################################
##############################################################################
###
### Running command:
###
### C:\cygwin\bin\curl.exe -O https://malbec2.bioconductor.org/BBS/3.9/bioc/src/contrib/GraphAT_1.55.0.tar.gz && rm -rf GraphAT.buildbin-libdir && mkdir GraphAT.buildbin-libdir && C:\Users\biocbuild\bbs-3.9-bioc\R\bin\R.exe CMD INSTALL --merge-multiarch --build --library=GraphAT.buildbin-libdir GraphAT_1.55.0.tar.gz && C:\Users\biocbuild\bbs-3.9-bioc\R\bin\R.exe CMD INSTALL GraphAT_1.55.0.zip && rm GraphAT_1.55.0.tar.gz GraphAT_1.55.0.zip
###
##############################################################################
##############################################################################
% Total % Received % Xferd Average Speed Time Time Time Current
Dload Upload Total Spent Left Speed
0 0 0 0 0 0 0 0 --:--:-- --:--:-- --:--:-- 0
34 1927k 34 656k 0 0 3819k 0 --:--:-- --:--:-- --:--:-- 3951k
100 1927k 100 1927k 0 0 9807k 0 --:--:-- --:--:-- --:--:-- 9.8M
install for i386
* installing *source* package 'GraphAT' ...
** R
** data
** byte-compile and prepare package for lazy loading
** help
*** installing help indices
converting help for package 'GraphAT'
finding HTML links ... done
Phenoclusters html
causton html
cellcycle html
clust2Mat html
depthmat html
getpvalue html
giaever html
mRNAclusters html
makeClustM html
mat2UndirG html
permPower html
perms html
** building package indices
** testing if installed package can be loaded from temporary location
** testing if installed package can be loaded from final location
** testing if installed package keeps a record of temporary installation path
install for x64
* installing *source* package 'GraphAT' ...
** testing if installed package can be loaded
* MD5 sums
packaged installation of 'GraphAT' as GraphAT_1.55.0.zip
* DONE (GraphAT)
* installing to library 'C:/Users/biocbuild/bbs-3.9-bioc/R/library'
package 'GraphAT' successfully unpacked and MD5 sums checked