| Back to Multiple platform build/check report for BioC 3.9 |
|
This page was generated on 2019-04-09 13:33:09 -0400 (Tue, 09 Apr 2019).
| Package 674/1703 | Hostname | OS / Arch | INSTALL | BUILD | CHECK | BUILD BIN | ||||||
| Glimma 1.11.1 Shian Su
| malbec2 | Linux (Ubuntu 18.04.2 LTS) / x86_64 | OK | OK | OK | |||||||
| tokay2 | Windows Server 2012 R2 Standard / x64 | OK | OK | OK | OK | |||||||
| celaya2 | OS X 10.11.6 El Capitan / x86_64 | OK | OK | OK | OK | |||||||
| merida2 | OS X 10.11.6 El Capitan / x86_64 | OK | OK | OK | [ OK ] |
| Package: Glimma |
| Version: 1.11.1 |
| Command: rm -rf Glimma.buildbin-libdir && mkdir Glimma.buildbin-libdir && /Users/biocbuild/BBS/utils/build-universal.sh Glimma_1.11.1.tar.gz /Library/Frameworks/R.framework/Versions/Current/Resources/bin/R Glimma.buildbin-libdir |
| StartedAt: 2019-04-09 05:28:56 -0400 (Tue, 09 Apr 2019) |
| EndedAt: 2019-04-09 05:30:17 -0400 (Tue, 09 Apr 2019) |
| EllapsedTime: 81.2 seconds |
| RetCode: 0 |
| Status: OK |
| PackageFile: Glimma_1.11.1.tgz |
| PackageFileSize: 3.323 MiB |
############################################################################## ############################################################################## ### ### Running command: ### ### rm -rf Glimma.buildbin-libdir && mkdir Glimma.buildbin-libdir && /Users/biocbuild/BBS/utils/build-universal.sh Glimma_1.11.1.tar.gz /Library/Frameworks/R.framework/Versions/Current/Resources/bin/R Glimma.buildbin-libdir ### ############################################################################## ############################################################################## >>>>>>> >>>>>>> INSTALLATION WITH 'R CMD INSTALL --preclean --no-multiarch --library=Glimma.buildbin-libdir Glimma_1.11.1.tar.gz' >>>>>>> * installing *source* package ‘Glimma’ ... ** R ** data *** moving datasets to lazyload DB ** inst ** byte-compile and prepare package for lazy loading ** help *** installing help indices ** building package indices ** installing vignettes ** testing if installed package can be loaded * DONE (Glimma)