| Back to Multiple platform build/check report for BioC 3.9 |
|
This page was generated on 2019-04-09 12:21:19 -0400 (Tue, 09 Apr 2019).
| Package 649/1703 | Hostname | OS / Arch | INSTALL | BUILD | CHECK | BUILD BIN | ||||||
| GenomicInteractions 1.17.0 Liz Ing-Simmons
| malbec2 | Linux (Ubuntu 18.04.2 LTS) / x86_64 | OK | OK | OK | |||||||
| tokay2 | Windows Server 2012 R2 Standard / x64 | OK | OK | OK | [ OK ] | |||||||
| celaya2 | OS X 10.11.6 El Capitan / x86_64 | OK | OK | OK | OK | |||||||
| merida2 | OS X 10.11.6 El Capitan / x86_64 | OK | OK | OK | OK |
| Package: GenomicInteractions |
| Version: 1.17.0 |
| Command: rm -rf GenomicInteractions.buildbin-libdir && mkdir GenomicInteractions.buildbin-libdir && C:\Users\biocbuild\bbs-3.9-bioc\R\bin\R.exe CMD INSTALL --merge-multiarch --build --library=GenomicInteractions.buildbin-libdir GenomicInteractions_1.17.0.tar.gz |
| StartedAt: 2019-04-09 08:00:40 -0400 (Tue, 09 Apr 2019) |
| EndedAt: 2019-04-09 08:04:22 -0400 (Tue, 09 Apr 2019) |
| EllapsedTime: 221.4 seconds |
| RetCode: 0 |
| Status: OK |
| PackageFile: GenomicInteractions_1.17.0.zip |
| PackageFileSize: 4.264 MiB |
##############################################################################
##############################################################################
###
### Running command:
###
### rm -rf GenomicInteractions.buildbin-libdir && mkdir GenomicInteractions.buildbin-libdir && C:\Users\biocbuild\bbs-3.9-bioc\R\bin\R.exe CMD INSTALL --merge-multiarch --build --library=GenomicInteractions.buildbin-libdir GenomicInteractions_1.17.0.tar.gz
###
##############################################################################
##############################################################################
install for i386
* installing *source* package 'GenomicInteractions' ...
** R
** data
** inst
** byte-compile and prepare package for lazy loading
** help
*** installing help indices
converting help for package 'GenomicInteractions'
finding HTML links ... done
GInteractions-subsetByFeatures-methods
html
GenomicInteractions-class html
GenomicInteractions-package html
GenomicInteractions html
InteractionHelpers html
InteractionTrack-class html
InteractionTrack html
annotateInteractions html
annotateRegions html
asBED-GInteractions-method html
availableDisplayPars html
calculateDistances html
categoriseInteractions html
countsBetweenAnchors-methods html
export.bed12 html
export.bedpe html
export.chiasig html
export.igraph html
get_binom_ligation_threshold html
get_self_ligation_threshold html
getters html
finding level-2 HTML links ... done
hg19.refseq.transcripts html
hic_example_data html
makeGenomicInteractionsFromFile html
mm9_refseq_promoters html
plotAvgViewpoint html
plotCisTrans html
plotCounts html
plotDists html
plotInteractionAnnotations html
plotSummaryStats html
plotViewpoint html
removeDups html
resetAnnotations html
sameStrand html
setters html
sum-GInteractions-method html
summariseByFeaturePairs html
summariseByFeatures html
thymus_enh html
updateObject-GenomicInteractions-method
html
viewPoint html
** building package indices
** installing vignettes
** testing if installed package can be loaded from temporary location
** testing if installed package can be loaded from final location
** testing if installed package keeps a record of temporary installation path
install for x64
* installing *source* package 'GenomicInteractions' ...
** testing if installed package can be loaded
* MD5 sums
packaged installation of 'GenomicInteractions' as GenomicInteractions_1.17.0.zip
* DONE (GenomicInteractions)