| Back to Multiple platform build/check report for BioC 3.9 | 
 | 
This page was generated on 2019-04-09 13:09:26 -0400 (Tue, 09 Apr 2019).
| Package 624/1703 | Hostname | OS / Arch | INSTALL | BUILD | CHECK | BUILD BIN | ||||||
| GeneOverlap 1.19.0 Li Shen, Mount Sinai 
 | malbec2 | Linux (Ubuntu 18.04.2 LTS) / x86_64 | OK | OK | OK |  | ||||||
| tokay2 | Windows Server 2012 R2 Standard / x64 | OK | OK | OK | OK |  | ||||||
| celaya2 | OS X 10.11.6 El Capitan / x86_64 | OK | OK | OK | [ OK ] |  | ||||||
| merida2 | OS X 10.11.6 El Capitan / x86_64 | OK | OK | OK | OK | 
| Package: GeneOverlap | 
| Version: 1.19.0 | 
| Command: rm -rf GeneOverlap.buildbin-libdir && mkdir GeneOverlap.buildbin-libdir && /Users/biocbuild/BBS/utils/build-universal.sh GeneOverlap_1.19.0.tar.gz /Library/Frameworks/R.framework/Versions/Current/Resources/bin/R GeneOverlap.buildbin-libdir | 
| StartedAt: 2019-04-09 07:05:37 -0400 (Tue, 09 Apr 2019) | 
| EndedAt: 2019-04-09 07:06:04 -0400 (Tue, 09 Apr 2019) | 
| EllapsedTime: 27.5 seconds | 
| RetCode: 0 | 
| Status: OK | 
| PackageFile: GeneOverlap_1.19.0.tgz | 
| PackageFileSize: 469.1 KiB | 
############################################################################## ############################################################################## ### ### Running command: ### ### rm -rf GeneOverlap.buildbin-libdir && mkdir GeneOverlap.buildbin-libdir && /Users/biocbuild/BBS/utils/build-universal.sh GeneOverlap_1.19.0.tar.gz /Library/Frameworks/R.framework/Versions/Current/Resources/bin/R GeneOverlap.buildbin-libdir ### ############################################################################## ############################################################################## >>>>>>> >>>>>>> INSTALLATION WITH 'R CMD INSTALL --preclean --no-multiarch --library=GeneOverlap.buildbin-libdir GeneOverlap_1.19.0.tar.gz' >>>>>>> * installing *source* package ‘GeneOverlap’ ... ** using staged installation ** R ** data ** inst ** byte-compile and prepare package for lazy loading ** help *** installing help indices ** building package indices ** installing vignettes ** testing if installed package can be loaded from temporary location ** testing if installed package can be loaded from final location ** testing if installed package keeps a record of temporary installation path * DONE (GeneOverlap)