| Back to Multiple platform build/check report for BioC 3.9 |
|
This page was generated on 2019-04-09 12:26:59 -0400 (Tue, 09 Apr 2019).
| Package 621/1703 | Hostname | OS / Arch | INSTALL | BUILD | CHECK | BUILD BIN | ||||||
| GeneGeneInteR 1.9.0 Mathieu Emily
| malbec2 | Linux (Ubuntu 18.04.2 LTS) / x86_64 | OK | OK | OK | |||||||
| tokay2 | Windows Server 2012 R2 Standard / x64 | OK | OK | WARNINGS | [ OK ] | |||||||
| celaya2 | OS X 10.11.6 El Capitan / x86_64 | OK | OK | OK | OK | |||||||
| merida2 | OS X 10.11.6 El Capitan / x86_64 | OK | OK | OK | OK |
| Package: GeneGeneInteR |
| Version: 1.9.0 |
| Command: rm -rf GeneGeneInteR.buildbin-libdir && mkdir GeneGeneInteR.buildbin-libdir && C:\Users\biocbuild\bbs-3.9-bioc\R\bin\R.exe CMD INSTALL --merge-multiarch --build --library=GeneGeneInteR.buildbin-libdir GeneGeneInteR_1.9.0.tar.gz |
| StartedAt: 2019-04-09 07:58:57 -0400 (Tue, 09 Apr 2019) |
| EndedAt: 2019-04-09 08:00:32 -0400 (Tue, 09 Apr 2019) |
| EllapsedTime: 95.7 seconds |
| RetCode: 0 |
| Status: OK |
| PackageFile: GeneGeneInteR_1.9.0.zip |
| PackageFileSize: 1.102 MiB |
##############################################################################
##############################################################################
###
### Running command:
###
### rm -rf GeneGeneInteR.buildbin-libdir && mkdir GeneGeneInteR.buildbin-libdir && C:\Users\biocbuild\bbs-3.9-bioc\R\bin\R.exe CMD INSTALL --merge-multiarch --build --library=GeneGeneInteR.buildbin-libdir GeneGeneInteR_1.9.0.tar.gz
###
##############################################################################
##############################################################################
install for i386
* installing *source* package 'GeneGeneInteR' ...
** R
** data
*** moving datasets to lazyload DB
** inst
** byte-compile and prepare package for lazy loading
** help
*** installing help indices
converting help for package 'GeneGeneInteR'
finding HTML links ... done
CCA.test html
CLD.test html
GBIGM.test html
GGI html
KCCA.test html
PCA.test html
PLSPM.test html
data.SNP html
gates.test html
gene.pair html
importFile html
Rd warning: C:/Users/biocbuild/bbs-3.9-bioc/tmpdir/RtmpoZ1cZs/R.INSTALL2edc5c2f5cac/GeneGeneInteR/man/importFile.Rd:42: file link 'GRanges' in package 'GenomicRanges' does not exist and so has been treated as a topic
imputeSnpMatrix html
minP.test html
plot.GGInetwork html
print.GGItest html
selectSnps html
snpMatrixScour html
summary.GGInetwork html
summary.GGItest html
tProd.test html
tTS.test html
** building package indices
** installing vignettes
** testing if installed package can be loaded from temporary location
** testing if installed package can be loaded from final location
** testing if installed package keeps a record of temporary installation path
install for x64
* installing *source* package 'GeneGeneInteR' ...
** testing if installed package can be loaded
* MD5 sums
packaged installation of 'GeneGeneInteR' as GeneGeneInteR_1.9.0.zip
* DONE (GeneGeneInteR)