| Back to Multiple platform build/check report for BioC 3.9 | 
 | 
This page was generated on 2019-04-09 11:59:41 -0400 (Tue, 09 Apr 2019).
| Package 617/1703 | Hostname | OS / Arch | INSTALL | BUILD | CHECK | BUILD BIN | ||||||
| GeneExpressionSignature 1.29.0 Yang Cao 
 | malbec2 | Linux (Ubuntu 18.04.2 LTS) / x86_64 | OK | OK | OK |  | ||||||
| tokay2 | Windows Server 2012 R2 Standard / x64 | [ OK ] | OK | OK | OK |  | ||||||
| celaya2 | OS X 10.11.6 El Capitan / x86_64 | OK | OK | OK | OK |  | ||||||
| merida2 | OS X 10.11.6 El Capitan / x86_64 | OK | OK | OK | OK | 
| Package: GeneExpressionSignature | 
| Version: 1.29.0 | 
| Command: C:\cygwin\bin\curl.exe -O https://malbec2.bioconductor.org/BBS/3.9/bioc/src/contrib/GeneExpressionSignature_1.29.0.tar.gz && rm -rf GeneExpressionSignature.buildbin-libdir && mkdir GeneExpressionSignature.buildbin-libdir && C:\Users\biocbuild\bbs-3.9-bioc\R\bin\R.exe CMD INSTALL --merge-multiarch --build --library=GeneExpressionSignature.buildbin-libdir GeneExpressionSignature_1.29.0.tar.gz && C:\Users\biocbuild\bbs-3.9-bioc\R\bin\R.exe CMD INSTALL GeneExpressionSignature_1.29.0.zip && rm GeneExpressionSignature_1.29.0.tar.gz GeneExpressionSignature_1.29.0.zip | 
| StartedAt: 2019-04-08 18:48:19 -0400 (Mon, 08 Apr 2019) | 
| EndedAt: 2019-04-08 18:49:48 -0400 (Mon, 08 Apr 2019) | 
| EllapsedTime: 89.3 seconds | 
| RetCode: 0 | 
| Status: OK | 
##############################################################################
##############################################################################
###
### Running command:
###
###   C:\cygwin\bin\curl.exe -O https://malbec2.bioconductor.org/BBS/3.9/bioc/src/contrib/GeneExpressionSignature_1.29.0.tar.gz && rm -rf GeneExpressionSignature.buildbin-libdir && mkdir GeneExpressionSignature.buildbin-libdir && C:\Users\biocbuild\bbs-3.9-bioc\R\bin\R.exe CMD INSTALL --merge-multiarch --build --library=GeneExpressionSignature.buildbin-libdir GeneExpressionSignature_1.29.0.tar.gz && C:\Users\biocbuild\bbs-3.9-bioc\R\bin\R.exe CMD INSTALL GeneExpressionSignature_1.29.0.zip && rm GeneExpressionSignature_1.29.0.tar.gz GeneExpressionSignature_1.29.0.zip
###
##############################################################################
##############################################################################
  % Total    % Received % Xferd  Average Speed   Time    Time     Time  Current
                                 Dload  Upload   Total   Spent    Left  Speed
  0     0    0     0    0     0      0      0 --:--:-- --:--:-- --:--:--     0
100 2323k  100 2323k    0     0  5529k      0 --:--:-- --:--:-- --:--:-- 5626k
install for i386
* installing *source* package 'GeneExpressionSignature' ...
** R
** data
** inst
** byte-compile and prepare package for lazy loading
** help
*** installing help indices
  converting help for package 'GeneExpressionSignature'
    finding HTML links ... done
    GeneExpressionSignature                 html  
    RankMerging                             html  
    ScoreGSEA                               html  
    ScorePGSEA                              html  
    SignatureDistance                       html  
    exampleSet                              html  
    getRLs                                  html  
** building package indices
** installing vignettes
** testing if installed package can be loaded from temporary location
** testing if installed package can be loaded from final location
** testing if installed package keeps a record of temporary installation path
install for x64
* installing *source* package 'GeneExpressionSignature' ...
** testing if installed package can be loaded
* MD5 sums
packaged installation of 'GeneExpressionSignature' as GeneExpressionSignature_1.29.0.zip
* DONE (GeneExpressionSignature)
* installing to library 'C:/Users/biocbuild/bbs-3.9-bioc/R/library'
package 'GeneExpressionSignature' successfully unpacked and MD5 sums checked