| Back to Multiple platform build/check report for BioC 3.9 | 
 | 
This page was generated on 2019-04-09 12:25:09 -0400 (Tue, 09 Apr 2019).
| Package 722/1703 | Hostname | OS / Arch | INSTALL | BUILD | CHECK | BUILD BIN | ||||||
| GUIDEseq 1.13.1 Lihua Julie Zhu 
 | malbec2 | Linux (Ubuntu 18.04.2 LTS) / x86_64 | OK | OK | OK |  | ||||||
| tokay2 | Windows Server 2012 R2 Standard / x64 | [ OK ] | OK | OK | OK |  | ||||||
| celaya2 | OS X 10.11.6 El Capitan / x86_64 | OK | OK | OK | OK |  | ||||||
| merida2 | OS X 10.11.6 El Capitan / x86_64 | OK | OK | OK | OK | 
| Package: GUIDEseq | 
| Version: 1.13.1 | 
| Command: C:\cygwin\bin\curl.exe -O https://malbec2.bioconductor.org/BBS/3.9/bioc/src/contrib/GUIDEseq_1.13.1.tar.gz && rm -rf GUIDEseq.buildbin-libdir && mkdir GUIDEseq.buildbin-libdir && C:\Users\biocbuild\bbs-3.9-bioc\R\bin\R.exe CMD INSTALL --merge-multiarch --build --library=GUIDEseq.buildbin-libdir GUIDEseq_1.13.1.tar.gz && C:\Users\biocbuild\bbs-3.9-bioc\R\bin\R.exe CMD INSTALL GUIDEseq_1.13.1.zip && rm GUIDEseq_1.13.1.tar.gz GUIDEseq_1.13.1.zip | 
| StartedAt: 2019-04-08 20:25:38 -0400 (Mon, 08 Apr 2019) | 
| EndedAt: 2019-04-08 20:26:54 -0400 (Mon, 08 Apr 2019) | 
| EllapsedTime: 76.2 seconds | 
| RetCode: 0 | 
| Status: OK | 
##############################################################################
##############################################################################
###
### Running command:
###
###   C:\cygwin\bin\curl.exe -O https://malbec2.bioconductor.org/BBS/3.9/bioc/src/contrib/GUIDEseq_1.13.1.tar.gz && rm -rf GUIDEseq.buildbin-libdir && mkdir GUIDEseq.buildbin-libdir && C:\Users\biocbuild\bbs-3.9-bioc\R\bin\R.exe CMD INSTALL --merge-multiarch --build --library=GUIDEseq.buildbin-libdir GUIDEseq_1.13.1.tar.gz && C:\Users\biocbuild\bbs-3.9-bioc\R\bin\R.exe CMD INSTALL GUIDEseq_1.13.1.zip && rm GUIDEseq_1.13.1.tar.gz GUIDEseq_1.13.1.zip
###
##############################################################################
##############################################################################
  % Total    % Received % Xferd  Average Speed   Time    Time     Time  Current
                                 Dload  Upload   Total   Spent    Left  Speed
  0     0    0     0    0     0      0      0 --:--:-- --:--:-- --:--:--     0
100 4533k  100 4533k    0     0  42.8M      0 --:--:-- --:--:-- --:--:-- 46.1M
install for i386
* installing *source* package 'GUIDEseq' ...
** R
** data
** inst
** byte-compile and prepare package for lazy loading
** help
*** installing help indices
  converting help for package 'GUIDEseq'
    finding HTML links ... done
    GUIDEseq-package                        html  
    GUIDEseqAnalysis                        html  
    annotateOffTargets                      html  
    combineOfftargets                       html  
    createBarcodeFasta                      html  
    getPeaks                                html  
    getUniqueCleavageEvents                 html  
    getUsedBarcodes                         html  
    mergePlusMinusPeaks                     html  
    offTargetAnalysisOfPeakRegions          html  
    peaks.gr                                html  
    uniqueCleavageEvents                    html  
** building package indices
** installing vignettes
** testing if installed package can be loaded from temporary location
** testing if installed package can be loaded from final location
** testing if installed package keeps a record of temporary installation path
install for x64
* installing *source* package 'GUIDEseq' ...
** testing if installed package can be loaded
* MD5 sums
packaged installation of 'GUIDEseq' as GUIDEseq_1.13.1.zip
* DONE (GUIDEseq)
* installing to library 'C:/Users/biocbuild/bbs-3.9-bioc/R/library'
package 'GUIDEseq' successfully unpacked and MD5 sums checked