| Back to Multiple platform build/check report for BioC 3.9 | 
 | 
This page was generated on 2019-04-09 11:58:14 -0400 (Tue, 09 Apr 2019).
| Package 719/1703 | Hostname | OS / Arch | INSTALL | BUILD | CHECK | BUILD BIN | ||||||
| GSRI 2.31.0 Julian Gehring 
 | malbec2 | Linux (Ubuntu 18.04.2 LTS) / x86_64 | OK | OK | OK |  | ||||||
| tokay2 | Windows Server 2012 R2 Standard / x64 | OK | [ OK ] | WARNINGS | OK |  | ||||||
| celaya2 | OS X 10.11.6 El Capitan / x86_64 | OK | OK | OK | OK |  | ||||||
| merida2 | OS X 10.11.6 El Capitan / x86_64 | OK | OK | OK | OK | 
| Package: GSRI | 
| Version: 2.31.0 | 
| Command: chmod a+r GSRI -R && C:\Users\biocbuild\bbs-3.9-bioc\R\bin\R.exe CMD build --keep-empty-dirs --no-resave-data GSRI | 
| StartedAt: 2019-04-08 21:23:46 -0400 (Mon, 08 Apr 2019) | 
| EndedAt: 2019-04-08 21:24:31 -0400 (Mon, 08 Apr 2019) | 
| EllapsedTime: 44.4 seconds | 
| RetCode: 0 | 
| Status: OK | 
| PackageFile: GSRI_2.31.0.tar.gz | 
| PackageFileSize: 261.5 KiB | 
############################################################################## ############################################################################## ### ### Running command: ### ### chmod a+r GSRI -R && C:\Users\biocbuild\bbs-3.9-bioc\R\bin\R.exe CMD build --keep-empty-dirs --no-resave-data GSRI ### ############################################################################## ############################################################################## * checking for file 'GSRI/DESCRIPTION' ... OK * preparing 'GSRI': * checking DESCRIPTION meta-information ... OK * installing the package to build vignettes * creating vignettes ... OK * checking for LF line-endings in source and make files and shell scripts * checking for empty or unneeded directories * building 'GSRI_2.31.0.tar.gz'