| Back to Multiple platform build/check report for BioC 3.9 |
|
This page was generated on 2019-04-09 12:54:47 -0400 (Tue, 09 Apr 2019).
| Package 716/1703 | Hostname | OS / Arch | INSTALL | BUILD | CHECK | BUILD BIN | ||||||
| GSEAlm 1.43.0 Assaf Oron
| malbec2 | Linux (Ubuntu 18.04.2 LTS) / x86_64 | OK | OK | OK | |||||||
| tokay2 | Windows Server 2012 R2 Standard / x64 | OK | OK | OK | OK | |||||||
| celaya2 | OS X 10.11.6 El Capitan / x86_64 | OK | OK | OK | [ OK ] | |||||||
| merida2 | OS X 10.11.6 El Capitan / x86_64 | OK | OK | OK | OK |
| Package: GSEAlm |
| Version: 1.43.0 |
| Command: rm -rf GSEAlm.buildbin-libdir && mkdir GSEAlm.buildbin-libdir && /Users/biocbuild/BBS/utils/build-universal.sh GSEAlm_1.43.0.tar.gz /Library/Frameworks/R.framework/Versions/Current/Resources/bin/R GSEAlm.buildbin-libdir |
| StartedAt: 2019-04-09 07:10:08 -0400 (Tue, 09 Apr 2019) |
| EndedAt: 2019-04-09 07:10:23 -0400 (Tue, 09 Apr 2019) |
| EllapsedTime: 15.5 seconds |
| RetCode: 0 |
| Status: OK |
| PackageFile: GSEAlm_1.43.0.tgz |
| PackageFileSize: 880.2 KiB |
############################################################################## ############################################################################## ### ### Running command: ### ### rm -rf GSEAlm.buildbin-libdir && mkdir GSEAlm.buildbin-libdir && /Users/biocbuild/BBS/utils/build-universal.sh GSEAlm_1.43.0.tar.gz /Library/Frameworks/R.framework/Versions/Current/Resources/bin/R GSEAlm.buildbin-libdir ### ############################################################################## ############################################################################## >>>>>>> >>>>>>> INSTALLATION WITH 'R CMD INSTALL --preclean --no-multiarch --library=GSEAlm.buildbin-libdir GSEAlm_1.43.0.tar.gz' >>>>>>> * installing *source* package ‘GSEAlm’ ... ** using staged installation ** R ** inst ** byte-compile and prepare package for lazy loading ** help *** installing help indices ** building package indices ** installing vignettes ** testing if installed package can be loaded from temporary location ** testing if installed package can be loaded from final location ** testing if installed package keeps a record of temporary installation path * DONE (GSEAlm)