| Back to Multiple platform build/check report for BioC 3.9 | 
 | 
This page was generated on 2019-04-09 13:16:43 -0400 (Tue, 09 Apr 2019).
| Package 708/1703 | Hostname | OS / Arch | INSTALL | BUILD | CHECK | BUILD BIN | ||||||
| GRmetrics 1.9.1 Nicholas Clark 
 | malbec2 | Linux (Ubuntu 18.04.2 LTS) / x86_64 | OK | OK | OK |  | ||||||
| tokay2 | Windows Server 2012 R2 Standard / x64 | OK | OK | OK | OK |  | ||||||
| celaya2 | OS X 10.11.6 El Capitan / x86_64 | OK | OK | OK | [ OK ] |  | ||||||
| merida2 | OS X 10.11.6 El Capitan / x86_64 | OK | OK | OK | OK | 
| Package: GRmetrics | 
| Version: 1.9.1 | 
| Command: rm -rf GRmetrics.buildbin-libdir && mkdir GRmetrics.buildbin-libdir && /Users/biocbuild/BBS/utils/build-universal.sh GRmetrics_1.9.1.tar.gz /Library/Frameworks/R.framework/Versions/Current/Resources/bin/R GRmetrics.buildbin-libdir | 
| StartedAt: 2019-04-09 07:09:44 -0400 (Tue, 09 Apr 2019) | 
| EndedAt: 2019-04-09 07:10:26 -0400 (Tue, 09 Apr 2019) | 
| EllapsedTime: 41.7 seconds | 
| RetCode: 0 | 
| Status: OK | 
| PackageFile: GRmetrics_1.9.1.tgz | 
| PackageFileSize: 1.823 MiB | 
############################################################################## ############################################################################## ### ### Running command: ### ### rm -rf GRmetrics.buildbin-libdir && mkdir GRmetrics.buildbin-libdir && /Users/biocbuild/BBS/utils/build-universal.sh GRmetrics_1.9.1.tar.gz /Library/Frameworks/R.framework/Versions/Current/Resources/bin/R GRmetrics.buildbin-libdir ### ############################################################################## ############################################################################## >>>>>>> >>>>>>> INSTALLATION WITH 'R CMD INSTALL --preclean --no-multiarch --library=GRmetrics.buildbin-libdir GRmetrics_1.9.1.tar.gz' >>>>>>> * installing *source* package ‘GRmetrics’ ... ** using staged installation ** R ** data *** moving datasets to lazyload DB ** inst ** byte-compile and prepare package for lazy loading ** help *** installing help indices ** building package indices ** installing vignettes ** testing if installed package can be loaded from temporary location ** testing if installed package can be loaded from final location ** testing if installed package keeps a record of temporary installation path * DONE (GRmetrics)