| Back to Multiple platform build/check report for BioC 3.9 |
|
This page was generated on 2019-04-09 12:21:08 -0400 (Tue, 09 Apr 2019).
| Package 692/1703 | Hostname | OS / Arch | INSTALL | BUILD | CHECK | BUILD BIN | ||||||
| GOsummaries 2.19.0 Raivo Kolde
| malbec2 | Linux (Ubuntu 18.04.2 LTS) / x86_64 | OK | OK | OK | |||||||
| tokay2 | Windows Server 2012 R2 Standard / x64 | OK | OK | OK | [ OK ] | |||||||
| celaya2 | OS X 10.11.6 El Capitan / x86_64 | OK | OK | OK | OK | |||||||
| merida2 | OS X 10.11.6 El Capitan / x86_64 | OK | OK | OK | OK |
| Package: GOsummaries |
| Version: 2.19.0 |
| Command: rm -rf GOsummaries.buildbin-libdir && mkdir GOsummaries.buildbin-libdir && C:\Users\biocbuild\bbs-3.9-bioc\R\bin\R.exe CMD INSTALL --merge-multiarch --build --library=GOsummaries.buildbin-libdir GOsummaries_2.19.0.tar.gz |
| StartedAt: 2019-04-09 08:07:08 -0400 (Tue, 09 Apr 2019) |
| EndedAt: 2019-04-09 08:08:57 -0400 (Tue, 09 Apr 2019) |
| EllapsedTime: 108.6 seconds |
| RetCode: 0 |
| Status: OK |
| PackageFile: GOsummaries_2.19.0.zip |
| PackageFileSize: 2.969 MiB |
##############################################################################
##############################################################################
###
### Running command:
###
### rm -rf GOsummaries.buildbin-libdir && mkdir GOsummaries.buildbin-libdir && C:\Users\biocbuild\bbs-3.9-bioc\R\bin\R.exe CMD INSTALL --merge-multiarch --build --library=GOsummaries.buildbin-libdir GOsummaries_2.19.0.tar.gz
###
##############################################################################
##############################################################################
install for i386
* installing *source* package 'GOsummaries' ...
** libs
C:/Rtools/mingw_32/bin/g++ -I"C:/Users/BIOCBU˜1/BBS-3˜1.9-B/R/include" -DNDEBUG -I"C:/Users/biocbuild/bbs-3.9-bioc/R/library/Rcpp/include" -I"C:/extsoft/include" -O2 -Wall -mtune=generic -c findCoordinates.cpp -o findCoordinates.o
C:/Rtools/mingw_32/bin/g++ -shared -s -static-libgcc -o GOsummaries.dll tmp.def findCoordinates.o -LC:/extsoft/lib/i386 -LC:/extsoft/lib -LC:/Users/BIOCBU˜1/BBS-3˜1.9-B/R/bin/i386 -lR
installing to C:/Users/biocbuild/bbs-3.9-bioc/meat/GOsummaries.buildbin-libdir/00LOCK-GOsummaries/00new/GOsummaries/libs/i386
** R
** data
** inst
** byte-compile and prepare package for lazy loading
** help
*** installing help indices
converting help for package 'GOsummaries'
finding HTML links ... done
GOsummaries-package html
add_expression.gosummaries html
add_to_slot.gosummaries html
customize html
gosummaries.MArrayLM html
finding level-2 HTML links ... done
gosummaries html
gosummaries.kmeans html
gosummaries.matrix html
gosummaries.prcomp html
metabolomic_example html
metagenomic_example html
panel_boxplot html
plot.gosummaries html
plotWordcloud html
tissue_example html
** building package indices
** installing vignettes
** testing if installed package can be loaded from temporary location
** testing if installed package can be loaded from final location
** testing if installed package keeps a record of temporary installation path
install for x64
* installing *source* package 'GOsummaries' ...
** libs
C:/Rtools/mingw_64/bin/g++ -I"C:/Users/BIOCBU˜1/BBS-3˜1.9-B/R/include" -DNDEBUG -I"C:/Users/biocbuild/bbs-3.9-bioc/R/library/Rcpp/include" -I"C:/extsoft/include" -O2 -Wall -mtune=generic -c findCoordinates.cpp -o findCoordinates.o
C:/Rtools/mingw_64/bin/g++ -shared -s -static-libgcc -o GOsummaries.dll tmp.def findCoordinates.o -LC:/extsoft/lib/x64 -LC:/extsoft/lib -LC:/Users/BIOCBU˜1/BBS-3˜1.9-B/R/bin/x64 -lR
installing to C:/Users/biocbuild/bbs-3.9-bioc/meat/GOsummaries.buildbin-libdir/GOsummaries/libs/x64
** testing if installed package can be loaded
* MD5 sums
packaged installation of 'GOsummaries' as GOsummaries_2.19.0.zip
* DONE (GOsummaries)