| Back to Multiple platform build/check report for BioC 3.9 |
|
This page was generated on 2019-04-09 12:14:43 -0400 (Tue, 09 Apr 2019).
| Package 693/1703 | Hostname | OS / Arch | INSTALL | BUILD | CHECK | BUILD BIN | ||||||
Borbala Mifsud
| malbec2 | Linux (Ubuntu 18.04.2 LTS) / x86_64 | OK | OK | ERROR | |||||||
| tokay2 | Windows Server 2012 R2 Standard / x64 | OK | OK | ERROR | [ OK ] | |||||||
| celaya2 | OS X 10.11.6 El Capitan / x86_64 | OK | OK | ERROR | OK | |||||||
| merida2 | OS X 10.11.6 El Capitan / x86_64 | OK | OK | ERROR | OK |
| Package: GOTHiC |
| Version: 1.19.2 |
| Command: rm -rf GOTHiC.buildbin-libdir && mkdir GOTHiC.buildbin-libdir && C:\Users\biocbuild\bbs-3.9-bioc\R\bin\R.exe CMD INSTALL --merge-multiarch --build --library=GOTHiC.buildbin-libdir GOTHiC_1.19.2.tar.gz |
| StartedAt: 2019-04-09 08:07:12 -0400 (Tue, 09 Apr 2019) |
| EndedAt: 2019-04-09 08:08:53 -0400 (Tue, 09 Apr 2019) |
| EllapsedTime: 100.5 seconds |
| RetCode: 0 |
| Status: OK |
| PackageFile: GOTHiC_1.19.2.zip |
| PackageFileSize: 2.392 MiB |
##############################################################################
##############################################################################
###
### Running command:
###
### rm -rf GOTHiC.buildbin-libdir && mkdir GOTHiC.buildbin-libdir && C:\Users\biocbuild\bbs-3.9-bioc\R\bin\R.exe CMD INSTALL --merge-multiarch --build --library=GOTHiC.buildbin-libdir GOTHiC_1.19.2.tar.gz
###
##############################################################################
##############################################################################
install for i386
* installing *source* package 'GOTHiC' ...
** R
** data
** inst
** byte-compile and prepare package for lazy loading
** help
*** installing help indices
converting help for package 'GOTHiC'
finding HTML links ... done
GOTHiC html
GOTHiChicup html
filtered html
mapReadsToRestrictionSites html
pairReads html
** building package indices
** installing vignettes
** testing if installed package can be loaded from temporary location
Warning: Package 'GOTHiC' is deprecated and will be removed from Bioconductor
version 3.10
** testing if installed package can be loaded from final location
Warning: Package 'GOTHiC' is deprecated and will be removed from Bioconductor
version 3.10
** testing if installed package keeps a record of temporary installation path
install for x64
* installing *source* package 'GOTHiC' ...
** testing if installed package can be loaded
Warning: Package 'GOTHiC' is deprecated and will be removed from Bioconductor
version 3.10
* MD5 sums
packaged installation of 'GOTHiC' as GOTHiC_1.19.2.zip
* DONE (GOTHiC)