| Back to Multiple platform build/check report for BioC 3.9 |
|
This page was generated on 2019-04-09 11:59:30 -0400 (Tue, 09 Apr 2019).
| Package 684/1703 | Hostname | OS / Arch | INSTALL | BUILD | CHECK | BUILD BIN | ||||||
| GOFunction 1.31.0 Jing Wang
| malbec2 | Linux (Ubuntu 18.04.2 LTS) / x86_64 | OK | OK | OK | |||||||
| tokay2 | Windows Server 2012 R2 Standard / x64 | OK | OK | [ OK ] | OK | |||||||
| celaya2 | OS X 10.11.6 El Capitan / x86_64 | OK | OK | OK | OK | |||||||
| merida2 | OS X 10.11.6 El Capitan / x86_64 | OK | OK | OK | OK |
| Package: GOFunction |
| Version: 1.31.0 |
| Command: C:\Users\biocbuild\bbs-3.9-bioc\R\bin\R.exe CMD check --force-multiarch --install=check:GOFunction.install-out.txt --library=C:\Users\biocbuild\bbs-3.9-bioc\R\library --no-vignettes --timings GOFunction_1.31.0.tar.gz |
| StartedAt: 2019-04-09 03:16:21 -0400 (Tue, 09 Apr 2019) |
| EndedAt: 2019-04-09 03:33:36 -0400 (Tue, 09 Apr 2019) |
| EllapsedTime: 1034.8 seconds |
| RetCode: 0 |
| Status: OK |
| CheckDir: GOFunction.Rcheck |
| Warnings: 0 |
##############################################################################
##############################################################################
###
### Running command:
###
### C:\Users\biocbuild\bbs-3.9-bioc\R\bin\R.exe CMD check --force-multiarch --install=check:GOFunction.install-out.txt --library=C:\Users\biocbuild\bbs-3.9-bioc\R\library --no-vignettes --timings GOFunction_1.31.0.tar.gz
###
##############################################################################
##############################################################################
* using log directory 'C:/Users/biocbuild/bbs-3.9-bioc/meat/GOFunction.Rcheck'
* using R Under development (unstable) (2019-03-09 r76216)
* using platform: x86_64-w64-mingw32 (64-bit)
* using session charset: ISO8859-1
* using option '--no-vignettes'
* checking for file 'GOFunction/DESCRIPTION' ... OK
* checking extension type ... Package
* this is package 'GOFunction' version '1.31.0'
* checking package namespace information ... OK
* checking package dependencies ... NOTE
Depends: includes the non-default packages:
'Biobase', 'graph', 'Rgraphviz', 'GO.db', 'AnnotationDbi', 'SparseM'
Adding so many packages to the search path is excessive and importing
selectively is preferable.
* checking if this is a source package ... OK
* checking if there is a namespace ... OK
* checking for hidden files and directories ... OK
* checking for portable file names ... OK
* checking whether package 'GOFunction' can be installed ... OK
* checking installed package size ... OK
* checking package directory ... OK
* checking 'build' directory ... OK
* checking DESCRIPTION meta-information ... NOTE
Packages listed in more than one of Depends, Imports, Suggests, Enhances:
'methods' 'Biobase' 'graph' 'Rgraphviz' 'GO.db' 'AnnotationDbi' 'SparseM'
A package should be listed in only one of these fields.
* checking top-level files ... OK
* checking for left-over files ... OK
* checking index information ... OK
* checking package subdirectories ... OK
* checking R files for non-ASCII characters ... OK
* checking R files for syntax errors ... OK
* loading checks for arch 'i386'
** checking whether the package can be loaded ... OK
** checking whether the package can be loaded with stated dependencies ... OK
** checking whether the package can be unloaded cleanly ... OK
** checking whether the namespace can be loaded with stated dependencies ... OK
** checking whether the namespace can be unloaded cleanly ... OK
* loading checks for arch 'x64'
** checking whether the package can be loaded ... OK
** checking whether the package can be loaded with stated dependencies ... OK
** checking whether the package can be unloaded cleanly ... OK
** checking whether the namespace can be loaded with stated dependencies ... OK
** checking whether the namespace can be unloaded cleanly ... OK
* checking dependencies in R code ... NOTE
'library' or 'require' calls to packages already attached by Depends:
'GO.db' 'Rgraphviz' 'SparseM' 'graph' 'methods'
Please remove these calls from your code.
Namespaces in Imports field not imported from:
'GO.db' 'Rgraphviz' 'graph'
All declared Imports should be used.
Packages in Depends field not imported from:
'GO.db' 'Rgraphviz' 'graph'
These packages need to be imported from (in the NAMESPACE file)
for when this namespace is loaded but not attached.
* checking S3 generic/method consistency ... OK
* checking replacement functions ... OK
* checking foreign function calls ... OK
* checking R code for possible problems ... NOTE
File 'GOFunction/R/zzz.R':
.onLoad calls:
require(methods)
Package startup functions should not change the search path.
See section 'Good practice' in '?.onAttach'.
GOFunction: no visible global function definition for 'nodes'
GOFunction: no visible global function definition for 'write.csv'
createGODAG: no visible global function definition for 'sparseM2Graph'
createGODAG: no visible global function definition for 'graph2SparseM'
enrichmentFunction: no visible global function definition for 'phyper'
enrichmentFunction: no visible global function definition for
'p.adjust'
globalRedundancy : calculateEachTerm : calculateExtraTerm: no visible
global function definition for 'phyper'
localRedundancy: no visible global function definition for 'phyper'
showSigNodes: no visible global function definition for
'getDefaultAttrs'
showSigNodes: no visible global function definition for 'heat.colors'
showSigNodes: no visible global function definition for 'edgeWeights'
showSigNodes: no visible global function definition for 'nodes'
showSigNodes: no visible global function definition for 'bmp'
showSigNodes: no visible global function definition for 'plot'
showSigNodes: no visible global function definition for 'dev.off'
Undefined global functions or variables:
bmp dev.off edgeWeights getDefaultAttrs graph2SparseM heat.colors
nodes p.adjust phyper plot sparseM2Graph write.csv
Consider adding
importFrom("grDevices", "bmp", "dev.off", "heat.colors")
importFrom("graphics", "plot")
importFrom("stats", "p.adjust", "phyper")
importFrom("utils", "write.csv")
to your NAMESPACE file.
* checking Rd files ... OK
* checking Rd metadata ... OK
* checking Rd cross-references ... OK
* checking for missing documentation entries ... OK
* checking for code/documentation mismatches ... OK
* checking Rd \usage sections ... OK
* checking Rd contents ... OK
* checking for unstated dependencies in examples ... OK
* checking contents of 'data' directory ... OK
* checking data for non-ASCII characters ... OK
* checking data for ASCII and uncompressed saves ... OK
* checking files in 'vignettes' ... OK
* checking examples ...
** running examples for arch 'i386' ... OK
Examples with CPU or elapsed time > 5s
user system elapsed
GOFunction 360.18 56.55 419.77
** running examples for arch 'x64' ... OK
Examples with CPU or elapsed time > 5s
user system elapsed
GOFunction 386.21 62.41 452.75
* checking for unstated dependencies in vignettes ... OK
* checking package vignettes in 'inst/doc' ... OK
* checking running R code from vignettes ... SKIPPED
* checking re-building of vignette outputs ... SKIPPED
* checking PDF version of manual ... OK
* DONE
Status: 4 NOTEs
See
'C:/Users/biocbuild/bbs-3.9-bioc/meat/GOFunction.Rcheck/00check.log'
for details.
GOFunction.Rcheck/00install.out
##############################################################################
##############################################################################
###
### Running command:
###
### C:\cygwin\bin\curl.exe -O https://malbec2.bioconductor.org/BBS/3.9/bioc/src/contrib/GOFunction_1.31.0.tar.gz && rm -rf GOFunction.buildbin-libdir && mkdir GOFunction.buildbin-libdir && C:\Users\biocbuild\bbs-3.9-bioc\R\bin\R.exe CMD INSTALL --merge-multiarch --build --library=GOFunction.buildbin-libdir GOFunction_1.31.0.tar.gz && C:\Users\biocbuild\bbs-3.9-bioc\R\bin\R.exe CMD INSTALL GOFunction_1.31.0.zip && rm GOFunction_1.31.0.tar.gz GOFunction_1.31.0.zip
###
##############################################################################
##############################################################################
% Total % Received % Xferd Average Speed Time Time Time Current
Dload Upload Total Spent Left Speed
0 0 0 0 0 0 0 0 --:--:-- --:--:-- --:--:-- 0
100 582k 100 582k 0 0 8447k 0 --:--:-- --:--:-- --:--:-- 9399k
install for i386
* installing *source* package 'GOFunction' ...
** R
** data
** byte-compile and prepare package for lazy loading
** help
*** installing help indices
converting help for package 'GOFunction'
finding HTML links ... done
GOFunction-package html
GOFunction html
createGODAG html
enrichmentFunction html
globalRedundancy html
interestGenes html
localRedundancy html
refGenes html
showSigNodes html
** building package indices
** installing vignettes
** testing if installed package can be loaded from temporary location
** testing if installed package can be loaded from final location
** testing if installed package keeps a record of temporary installation path
install for x64
* installing *source* package 'GOFunction' ...
** testing if installed package can be loaded
* MD5 sums
packaged installation of 'GOFunction' as GOFunction_1.31.0.zip
* DONE (GOFunction)
* installing to library 'C:/Users/biocbuild/bbs-3.9-bioc/R/library'
package 'GOFunction' successfully unpacked and MD5 sums checked
|
GOFunction.Rcheck/examples_i386/GOFunction-Ex.timings
|
GOFunction.Rcheck/examples_x64/GOFunction-Ex.timings
|