| Back to Multiple platform build/check report for BioC 3.9 |
|
This page was generated on 2019-04-09 11:54:45 -0400 (Tue, 09 Apr 2019).
| Package 660/1703 | Hostname | OS / Arch | INSTALL | BUILD | CHECK | BUILD BIN | ||||||
| GEOquery 2.51.5 Sean Davis
| malbec2 | Linux (Ubuntu 18.04.2 LTS) / x86_64 | OK | OK | OK | |||||||
| tokay2 | Windows Server 2012 R2 Standard / x64 | [ OK ] | OK | OK | OK | |||||||
| celaya2 | OS X 10.11.6 El Capitan / x86_64 | OK | OK | OK | OK | |||||||
| merida2 | OS X 10.11.6 El Capitan / x86_64 | OK | OK | OK | OK |
| Package: GEOquery |
| Version: 2.51.5 |
| Command: C:\cygwin\bin\curl.exe -O https://malbec2.bioconductor.org/BBS/3.9/bioc/src/contrib/GEOquery_2.51.5.tar.gz && rm -rf GEOquery.buildbin-libdir && mkdir GEOquery.buildbin-libdir && C:\Users\biocbuild\bbs-3.9-bioc\R\bin\R.exe CMD INSTALL --merge-multiarch --build --library=GEOquery.buildbin-libdir GEOquery_2.51.5.tar.gz && C:\Users\biocbuild\bbs-3.9-bioc\R\bin\R.exe CMD INSTALL GEOquery_2.51.5.zip && rm GEOquery_2.51.5.tar.gz GEOquery_2.51.5.zip |
| StartedAt: 2019-04-08 19:24:07 -0400 (Mon, 08 Apr 2019) |
| EndedAt: 2019-04-08 19:25:02 -0400 (Mon, 08 Apr 2019) |
| EllapsedTime: 55.0 seconds |
| RetCode: 0 |
| Status: OK |
##############################################################################
##############################################################################
###
### Running command:
###
### C:\cygwin\bin\curl.exe -O https://malbec2.bioconductor.org/BBS/3.9/bioc/src/contrib/GEOquery_2.51.5.tar.gz && rm -rf GEOquery.buildbin-libdir && mkdir GEOquery.buildbin-libdir && C:\Users\biocbuild\bbs-3.9-bioc\R\bin\R.exe CMD INSTALL --merge-multiarch --build --library=GEOquery.buildbin-libdir GEOquery_2.51.5.tar.gz && C:\Users\biocbuild\bbs-3.9-bioc\R\bin\R.exe CMD INSTALL GEOquery_2.51.5.zip && rm GEOquery_2.51.5.tar.gz GEOquery_2.51.5.zip
###
##############################################################################
##############################################################################
% Total % Received % Xferd Average Speed Time Time Time Current
Dload Upload Total Spent Left Speed
0 0 0 0 0 0 0 0 --:--:-- --:--:-- --:--:-- 0
100 12.8M 100 12.8M 0 0 61.5M 0 --:--:-- --:--:-- --:--:-- 63.2M
install for i386
* installing *source* package 'GEOquery' ...
** R
** inst
** byte-compile and prepare package for lazy loading
** help
*** installing help indices
converting help for package 'GEOquery'
finding HTML links ... done
GDS-class html
GEOData-accessors html
GEOData-class html
GEODataTable-class html
GPL-class html
GSE-class html
GSM-class html
coercion html
getDirListing html
getGEO html
getGEOSuppFiles html
getGEOfile html
getGSEDataTables html
gunzip html
parseGEO html
parseGSEMatrix html
** building package indices
** installing vignettes
** testing if installed package can be loaded from temporary location
** testing if installed package can be loaded from final location
** testing if installed package keeps a record of temporary installation path
install for x64
* installing *source* package 'GEOquery' ...
** testing if installed package can be loaded
* MD5 sums
packaged installation of 'GEOquery' as GEOquery_2.51.5.zip
* DONE (GEOquery)
* installing to library 'C:/Users/biocbuild/bbs-3.9-bioc/R/library'
package 'GEOquery' successfully unpacked and MD5 sums checked