| Back to Multiple platform build/check report for BioC 3.9 |
|
This page was generated on 2019-04-09 12:26:44 -0400 (Tue, 09 Apr 2019).
| Package 609/1703 | Hostname | OS / Arch | INSTALL | BUILD | CHECK | BUILD BIN | ||||||
| GEM 1.9.0 Hong Pan
| malbec2 | Linux (Ubuntu 18.04.2 LTS) / x86_64 | OK | OK | OK | |||||||
| tokay2 | Windows Server 2012 R2 Standard / x64 | OK | OK | WARNINGS | [ OK ] | |||||||
| celaya2 | OS X 10.11.6 El Capitan / x86_64 | OK | OK | OK | OK | |||||||
| merida2 | OS X 10.11.6 El Capitan / x86_64 | OK | OK | OK | OK |
| Package: GEM |
| Version: 1.9.0 |
| Command: rm -rf GEM.buildbin-libdir && mkdir GEM.buildbin-libdir && C:\Users\biocbuild\bbs-3.9-bioc\R\bin\R.exe CMD INSTALL --merge-multiarch --build --library=GEM.buildbin-libdir GEM_1.9.0.tar.gz |
| StartedAt: 2019-04-09 07:58:15 -0400 (Tue, 09 Apr 2019) |
| EndedAt: 2019-04-09 07:58:57 -0400 (Tue, 09 Apr 2019) |
| EllapsedTime: 42.4 seconds |
| RetCode: 0 |
| Status: OK |
| PackageFile: GEM_1.9.0.zip |
| PackageFileSize: 547.2 KiB |
##############################################################################
##############################################################################
###
### Running command:
###
### rm -rf GEM.buildbin-libdir && mkdir GEM.buildbin-libdir && C:\Users\biocbuild\bbs-3.9-bioc\R\bin\R.exe CMD INSTALL --merge-multiarch --build --library=GEM.buildbin-libdir GEM_1.9.0.tar.gz
###
##############################################################################
##############################################################################
install for i386
* installing *source* package 'GEM' ...
** R
** inst
** byte-compile and prepare package for lazy loading
** help
*** installing help indices
converting help for package 'GEM'
finding HTML links ... done
GEM-package html
GEM_Emodel html
GEM_GUI html
GEM_GWASmodel html
GEM_Gmodel html
GEM_GxEmodel html
SlicedData-class html
Rd warning: C:/Users/biocbuild/bbs-3.9-bioc/tmpdir/RtmpwtO2Jx/R.INSTALL27f064d371a7/GEM/man/SlicedData-class.Rd:89: file link 'rowMeans' in package 'base' does not exist and so has been treated as a topic
Rd warning: C:/Users/biocbuild/bbs-3.9-bioc/tmpdir/RtmpwtO2Jx/R.INSTALL27f064d371a7/GEM/man/SlicedData-class.Rd:90: file link 'rowSums' in package 'base' does not exist and so has been treated as a topic
Rd warning: C:/Users/biocbuild/bbs-3.9-bioc/tmpdir/RtmpwtO2Jx/R.INSTALL27f064d371a7/GEM/man/SlicedData-class.Rd:91: file link 'colMeans' in package 'base' does not exist and so has been treated as a topic
** building package indices
** installing vignettes
** testing if installed package can be loaded from temporary location
** testing if installed package can be loaded from final location
** testing if installed package keeps a record of temporary installation path
install for x64
* installing *source* package 'GEM' ...
** testing if installed package can be loaded
* MD5 sums
packaged installation of 'GEM' as GEM_1.9.0.zip
* DONE (GEM)