| Back to Multiple platform build/check report for BioC 3.9 |
|
This page was generated on 2019-04-09 12:35:57 -0400 (Tue, 09 Apr 2019).
| Package 605/1703 | Hostname | OS / Arch | INSTALL | BUILD | CHECK | BUILD BIN | ||||||
| GDCRNATools 1.3.2 Ruidong Li
| malbec2 | Linux (Ubuntu 18.04.2 LTS) / x86_64 | OK | OK | OK | |||||||
| tokay2 | Windows Server 2012 R2 Standard / x64 | OK | OK | OK | [ OK ] | |||||||
| celaya2 | OS X 10.11.6 El Capitan / x86_64 | OK | OK | OK | OK | |||||||
| merida2 | OS X 10.11.6 El Capitan / x86_64 | OK | OK | OK | OK |
| Package: GDCRNATools |
| Version: 1.3.2 |
| Command: rm -rf GDCRNATools.buildbin-libdir && mkdir GDCRNATools.buildbin-libdir && C:\Users\biocbuild\bbs-3.9-bioc\R\bin\R.exe CMD INSTALL --merge-multiarch --build --library=GDCRNATools.buildbin-libdir GDCRNATools_1.3.2.tar.gz |
| StartedAt: 2019-04-09 07:57:59 -0400 (Tue, 09 Apr 2019) |
| EndedAt: 2019-04-09 07:59:36 -0400 (Tue, 09 Apr 2019) |
| EllapsedTime: 96.3 seconds |
| RetCode: 0 |
| Status: OK |
| PackageFile: GDCRNATools_1.3.2.zip |
| PackageFileSize: 4.785 MiB |
##############################################################################
##############################################################################
###
### Running command:
###
### rm -rf GDCRNATools.buildbin-libdir && mkdir GDCRNATools.buildbin-libdir && C:\Users\biocbuild\bbs-3.9-bioc\R\bin\R.exe CMD INSTALL --merge-multiarch --build --library=GDCRNATools.buildbin-libdir GDCRNATools_1.3.2.tar.gz
###
##############################################################################
##############################################################################
install for i386
* installing *source* package 'GDCRNATools' ...
** R
** data
** inst
** byte-compile and prepare package for lazy loading
** help
*** installing help indices
converting help for package 'GDCRNATools'
finding HTML links ... done
DEGAll html
GDCRNATools-package html
enrichOutput html
gdcBarPlot html
gdcCEAnalysis html
gdcClinicalDownload html
gdcClinicalMerge html
gdcCorPlot html
gdcDEAnalysis html
gdcDEReport html
gdcEnrichAnalysis html
gdcEnrichPlot html
gdcExportNetwork html
gdcFilterDuplicate html
gdcFilterSampleType html
gdcHeatmap html
gdcKMPlot html
gdcMatchSamples html
gdcParseMetadata html
gdcRNADownload html
gdcRNAMerge html
gdcSurvivalAnalysis html
gdcVolcanoPlot html
gdcVoomNormalization html
lncTarget html
mirCounts html
pcTarget html
rnaCounts html
shinyCorPlot html
shinyKMPlot html
shinyPathview html
** building package indices
** installing vignettes
** testing if installed package can be loaded from temporary location
** testing if installed package can be loaded from final location
** testing if installed package keeps a record of temporary installation path
install for x64
* installing *source* package 'GDCRNATools' ...
** testing if installed package can be loaded
* MD5 sums
packaged installation of 'GDCRNATools' as GDCRNATools_1.3.2.zip
* DONE (GDCRNATools)