| Back to Multiple platform build/check report for BioC 3.9 | 
 | 
This page was generated on 2019-04-09 13:33:48 -0400 (Tue, 09 Apr 2019).
| Package 595/1703 | Hostname | OS / Arch | INSTALL | BUILD | CHECK | BUILD BIN | ||||||
| GAprediction 1.9.1 Jon Bohlin 
 | malbec2 | Linux (Ubuntu 18.04.2 LTS) / x86_64 | OK | OK | OK |  | ||||||
| tokay2 | Windows Server 2012 R2 Standard / x64 | OK | OK | OK | OK |  | ||||||
| celaya2 | OS X 10.11.6 El Capitan / x86_64 | OK | OK | OK | OK |  | ||||||
| merida2 | OS X 10.11.6 El Capitan / x86_64 | OK | OK | OK | [ OK ] | 
| Package: GAprediction | 
| Version: 1.9.1 | 
| Command: rm -rf GAprediction.buildbin-libdir && mkdir GAprediction.buildbin-libdir && /Users/biocbuild/BBS/utils/build-universal.sh GAprediction_1.9.1.tar.gz /Library/Frameworks/R.framework/Versions/Current/Resources/bin/R GAprediction.buildbin-libdir | 
| StartedAt: 2019-04-09 05:22:39 -0400 (Tue, 09 Apr 2019) | 
| EndedAt: 2019-04-09 05:23:59 -0400 (Tue, 09 Apr 2019) | 
| EllapsedTime: 80.5 seconds | 
| RetCode: 0 | 
| Status: OK | 
| PackageFile: GAprediction_1.9.1.tgz | 
| PackageFileSize: 881.7 KiB | 
############################################################################## ############################################################################## ### ### Running command: ### ### rm -rf GAprediction.buildbin-libdir && mkdir GAprediction.buildbin-libdir && /Users/biocbuild/BBS/utils/build-universal.sh GAprediction_1.9.1.tar.gz /Library/Frameworks/R.framework/Versions/Current/Resources/bin/R GAprediction.buildbin-libdir ### ############################################################################## ############################################################################## >>>>>>> >>>>>>> INSTALLATION WITH 'R CMD INSTALL --preclean --no-multiarch --library=GAprediction.buildbin-libdir GAprediction_1.9.1.tar.gz' >>>>>>> * installing *source* package ‘GAprediction’ ... ** R ** inst ** byte-compile and prepare package for lazy loading ** help *** installing help indices ** building package indices ** installing vignettes ** testing if installed package can be loaded * DONE (GAprediction)