| Back to Multiple platform build/check report for BioC 3.9 |
|
This page was generated on 2019-04-09 12:36:52 -0400 (Tue, 09 Apr 2019).
| Package 597/1703 | Hostname | OS / Arch | INSTALL | BUILD | CHECK | BUILD BIN | ||||||
| GARS 1.3.0 Mattia Chiesa
| malbec2 | Linux (Ubuntu 18.04.2 LTS) / x86_64 | OK | OK | OK | |||||||
| tokay2 | Windows Server 2012 R2 Standard / x64 | OK | OK | OK | [ OK ] | |||||||
| celaya2 | OS X 10.11.6 El Capitan / x86_64 | OK | OK | OK | OK | |||||||
| merida2 | OS X 10.11.6 El Capitan / x86_64 | OK | OK | OK | OK |
| Package: GARS |
| Version: 1.3.0 |
| Command: rm -rf GARS.buildbin-libdir && mkdir GARS.buildbin-libdir && C:\Users\biocbuild\bbs-3.9-bioc\R\bin\R.exe CMD INSTALL --merge-multiarch --build --library=GARS.buildbin-libdir GARS_1.3.0.tar.gz |
| StartedAt: 2019-04-09 07:57:38 -0400 (Tue, 09 Apr 2019) |
| EndedAt: 2019-04-09 07:58:53 -0400 (Tue, 09 Apr 2019) |
| EllapsedTime: 75.3 seconds |
| RetCode: 0 |
| Status: OK |
| PackageFile: GARS_1.3.0.zip |
| PackageFileSize: 501.3 KiB |
##############################################################################
##############################################################################
###
### Running command:
###
### rm -rf GARS.buildbin-libdir && mkdir GARS.buildbin-libdir && C:\Users\biocbuild\bbs-3.9-bioc\R\bin\R.exe CMD INSTALL --merge-multiarch --build --library=GARS.buildbin-libdir GARS_1.3.0.tar.gz
###
##############################################################################
##############################################################################
install for i386
* installing *source* package 'GARS' ...
** R
** data
*** moving datasets to lazyload DB
** inst
** byte-compile and prepare package for lazy loading
** help
*** installing help indices
converting help for package 'GARS'
finding HTML links ... done
AllPop html
FitScore html
GARS html
GARS_Crossover html
GARS_Elitism html
GARS_FitFun html
GARS_Fitness_score html
GARS_GA html
GARS_Mutation html
GARS_PlotFeaturesUsage html
GARS_PlotFitnessEvolution html
GARS_Selection html
GARS_classes html
GARS_create_rnd_population html
GARS_data_norm html
GARS_fit_list html
GARS_pop_list html
GARS_popul html
GARS_res_GA html
GarsSelectedFeatures-class html
LastPop html
MatrixFeatures html
** building package indices
** installing vignettes
** testing if installed package can be loaded from temporary location
** testing if installed package can be loaded from final location
** testing if installed package keeps a record of temporary installation path
install for x64
* installing *source* package 'GARS' ...
** testing if installed package can be loaded
* MD5 sums
packaged installation of 'GARS' as GARS_1.3.0.zip
* DONE (GARS)