| Back to Multiple platform build/check report for BioC 3.9 | 
 | 
This page was generated on 2019-04-09 12:22:18 -0400 (Tue, 09 Apr 2019).
| Package 569/1703 | Hostname | OS / Arch | INSTALL | BUILD | CHECK | BUILD BIN | ||||||
| FlowSOM 1.15.1 Sofie Van Gassen 
 | malbec2 | Linux (Ubuntu 18.04.2 LTS) / x86_64 | OK | OK | OK |  | ||||||
| tokay2 | Windows Server 2012 R2 Standard / x64 | [ OK ] | OK | OK | OK |  | ||||||
| celaya2 | OS X 10.11.6 El Capitan / x86_64 | OK | OK | WARNINGS | OK |  | ||||||
| merida2 | OS X 10.11.6 El Capitan / x86_64 | OK | OK | WARNINGS | OK | 
| Package: FlowSOM | 
| Version: 1.15.1 | 
| Command: C:\cygwin\bin\curl.exe -O https://malbec2.bioconductor.org/BBS/3.9/bioc/src/contrib/FlowSOM_1.15.1.tar.gz && rm -rf FlowSOM.buildbin-libdir && mkdir FlowSOM.buildbin-libdir && C:\Users\biocbuild\bbs-3.9-bioc\R\bin\R.exe CMD INSTALL --merge-multiarch --build --library=FlowSOM.buildbin-libdir FlowSOM_1.15.1.tar.gz && C:\Users\biocbuild\bbs-3.9-bioc\R\bin\R.exe CMD INSTALL FlowSOM_1.15.1.zip && rm FlowSOM_1.15.1.tar.gz FlowSOM_1.15.1.zip | 
| StartedAt: 2019-04-08 19:08:37 -0400 (Mon, 08 Apr 2019) | 
| EndedAt: 2019-04-08 19:09:18 -0400 (Mon, 08 Apr 2019) | 
| EllapsedTime: 40.7 seconds | 
| RetCode: 0 | 
| Status: OK | 
##############################################################################
##############################################################################
###
### Running command:
###
###   C:\cygwin\bin\curl.exe -O https://malbec2.bioconductor.org/BBS/3.9/bioc/src/contrib/FlowSOM_1.15.1.tar.gz && rm -rf FlowSOM.buildbin-libdir && mkdir FlowSOM.buildbin-libdir && C:\Users\biocbuild\bbs-3.9-bioc\R\bin\R.exe CMD INSTALL --merge-multiarch --build --library=FlowSOM.buildbin-libdir FlowSOM_1.15.1.tar.gz && C:\Users\biocbuild\bbs-3.9-bioc\R\bin\R.exe CMD INSTALL FlowSOM_1.15.1.zip && rm FlowSOM_1.15.1.tar.gz FlowSOM_1.15.1.zip
###
##############################################################################
##############################################################################
  % Total    % Received % Xferd  Average Speed   Time    Time     Time  Current
                                 Dload  Upload   Total   Spent    Left  Speed
  0     0    0     0    0     0      0      0 --:--:-- --:--:-- --:--:--     0
100 1139k  100 1139k    0     0  14.8M      0 --:--:-- --:--:-- --:--:-- 16.3M
install for i386
* installing *source* package 'FlowSOM' ...
** libs
C:/Rtools/mingw_32/bin/gcc  -I"C:/Users/BIOCBU˜1/BBS-3˜1.9-B/R/include" -DNDEBUG     -I"C:/extsoft/include"     -O3 -Wall  -std=gnu99 -mtune=generic -c som.c -o som.o
C:/Rtools/mingw_32/bin/gcc -shared -s -static-libgcc -o FlowSOM.dll tmp.def som.o -LC:/extsoft/lib/i386 -LC:/extsoft/lib -LC:/Users/BIOCBU˜1/BBS-3˜1.9-B/R/bin/i386 -lR
installing to C:/Users/biocbuild/bbs-3.9-bioc/meat/FlowSOM.buildbin-libdir/00LOCK-FlowSOM/00new/FlowSOM/libs/i386
** R
** inst
** byte-compile and prepare package for lazy loading
** help
*** installing help indices
  converting help for package 'FlowSOM'
    finding HTML links ... done
    AddFlowFrame                            html  
    AggregateFlowFrames                     html  
    BuildMST                                html  
    BuildSOM                                html  
    CountGroups                             html  
    Dist.MST                                html  
    FMeasure                                html  
    FlowSOM                                 html  
    FlowSOMSubset                           html  
    Initialize                              html  
    MapDataToCodes                          html  
    MetaClustering                          html  
    NewData                                 html  
    PlotCenters                             html  
    PlotClusters2D                          html  
    PlotGroups                              html  
    PlotMarker                              html  
    PlotNode                                html  
    PlotNumbers                             html  
    PlotPies                                html  
    PlotStars                               html  
    PlotVariable                            html  
    ProcessGatingML                         html  
    finding level-2 HTML links ... done
    Purity                                  html  
    QueryStarPlot                           html  
    ReadInput                               html  
    SOM                                     html  
    SaveClustersToFCS                       html  
    UpdateNodeSize                          html  
    computeBackgroundColor                  html  
    metaClustering_consensus                html  
    plotStarLegend                          html  
** building package indices
** installing vignettes
** testing if installed package can be loaded from temporary location
** testing if installed package can be loaded from final location
** testing if installed package keeps a record of temporary installation path
install for x64
* installing *source* package 'FlowSOM' ...
** libs
C:/Rtools/mingw_64/bin/gcc  -I"C:/Users/BIOCBU˜1/BBS-3˜1.9-B/R/include" -DNDEBUG     -I"C:/extsoft/include"     -O2 -Wall  -std=gnu99 -mtune=generic -c som.c -o som.o
C:/Rtools/mingw_64/bin/gcc -shared -s -static-libgcc -o FlowSOM.dll tmp.def som.o -LC:/extsoft/lib/x64 -LC:/extsoft/lib -LC:/Users/BIOCBU˜1/BBS-3˜1.9-B/R/bin/x64 -lR
installing to C:/Users/biocbuild/bbs-3.9-bioc/meat/FlowSOM.buildbin-libdir/FlowSOM/libs/x64
** testing if installed package can be loaded
* MD5 sums
packaged installation of 'FlowSOM' as FlowSOM_1.15.1.zip
* DONE (FlowSOM)
* installing to library 'C:/Users/biocbuild/bbs-3.9-bioc/R/library'
package 'FlowSOM' successfully unpacked and MD5 sums checked