| Back to Multiple platform build/check report for BioC 3.9 |
|
This page was generated on 2019-04-09 12:21:29 -0400 (Tue, 09 Apr 2019).
| Package 536/1703 | Hostname | OS / Arch | INSTALL | BUILD | CHECK | BUILD BIN | ||||||
| FEM 3.11.0 Zhen Yang
| malbec2 | Linux (Ubuntu 18.04.2 LTS) / x86_64 | OK | OK | WARNINGS | |||||||
| tokay2 | Windows Server 2012 R2 Standard / x64 | OK | OK | WARNINGS | [ OK ] | |||||||
| celaya2 | OS X 10.11.6 El Capitan / x86_64 | OK | OK | WARNINGS | OK | |||||||
| merida2 | OS X 10.11.6 El Capitan / x86_64 | OK | OK | WARNINGS | OK |
| Package: FEM |
| Version: 3.11.0 |
| Command: rm -rf FEM.buildbin-libdir && mkdir FEM.buildbin-libdir && C:\Users\biocbuild\bbs-3.9-bioc\R\bin\R.exe CMD INSTALL --merge-multiarch --build --library=FEM.buildbin-libdir FEM_3.11.0.tar.gz |
| StartedAt: 2019-04-09 07:53:58 -0400 (Tue, 09 Apr 2019) |
| EndedAt: 2019-04-09 07:54:54 -0400 (Tue, 09 Apr 2019) |
| EllapsedTime: 55.7 seconds |
| RetCode: 0 |
| Status: OK |
| PackageFile: FEM_3.11.0.zip |
| PackageFileSize: 13.7 MiB |
##############################################################################
##############################################################################
###
### Running command:
###
### rm -rf FEM.buildbin-libdir && mkdir FEM.buildbin-libdir && C:\Users\biocbuild\bbs-3.9-bioc\R\bin\R.exe CMD INSTALL --merge-multiarch --build --library=FEM.buildbin-libdir FEM_3.11.0.tar.gz
###
##############################################################################
##############################################################################
install for i386
* installing *source* package 'FEM' ...
** R
** data
** inst
** byte-compile and prepare package for lazy loading
Warning: replacing previous import 'igraph::intersection' by 'graph::intersection' when loading 'FEM'
Warning: replacing previous import 'igraph::union' by 'graph::union' when loading 'FEM'
Warning: replacing previous import 'igraph::degree' by 'graph::degree' when loading 'FEM'
Warning: replacing previous import 'igraph::edges' by 'graph::edges' when loading 'FEM'
Warning: replacing previous import 'Matrix::colMeans' by 'BiocGenerics::colMeans' when loading 'FEM'
Warning: replacing previous import 'Matrix::rowMeans' by 'BiocGenerics::rowMeans' when loading 'FEM'
Warning: replacing previous import 'limma::plotMA' by 'BiocGenerics::plotMA' when loading 'FEM'
Warning: replacing previous import 'Matrix::colSums' by 'BiocGenerics::colSums' when loading 'FEM'
Warning: replacing previous import 'Matrix::rowSums' by 'BiocGenerics::rowSums' when loading 'FEM'
Warning: replacing previous import 'Matrix::which' by 'BiocGenerics::which' when loading 'FEM'
Warning: replacing previous import 'igraph::path' by 'BiocGenerics::path' when loading 'FEM'
Warning: replacing previous import 'igraph::normalize' by 'BiocGenerics::normalize' when loading 'FEM'
Note: break used in wrong context: no loop is visible
Note: break used in wrong context: no loop is visible
Note: break used in wrong context: no loop is visible
Note: break used in wrong context: no loop is visible
Note: break used in wrong context: no loop is visible
Note: break used in wrong context: no loop is visible
Note: break used in wrong context: no loop is visible
Note: break used in wrong context: no loop is visible
** help
*** installing help indices
converting help for package 'FEM'
finding HTML links ... done
DoEpiMod html
DoExpMod html
DoFEMbi html
DoIntEpi450k html
DoIntExp html
DoIntFEM450k html
FEM-package html
FemModShow html
GenStatM html
GenStatMsp html
GenStatR html
Realdata html
Toydata html
probe450kfemanno html
probeEPICfemanno html
** building package indices
** installing vignettes
** testing if installed package can be loaded from temporary location
Warning: replacing previous import 'igraph::intersection' by 'graph::intersection' when loading 'FEM'
Warning: replacing previous import 'igraph::union' by 'graph::union' when loading 'FEM'
Warning: replacing previous import 'igraph::degree' by 'graph::degree' when loading 'FEM'
Warning: replacing previous import 'igraph::edges' by 'graph::edges' when loading 'FEM'
Warning: replacing previous import 'Matrix::colMeans' by 'BiocGenerics::colMeans' when loading 'FEM'
Warning: replacing previous import 'Matrix::rowMeans' by 'BiocGenerics::rowMeans' when loading 'FEM'
Warning: replacing previous import 'limma::plotMA' by 'BiocGenerics::plotMA' when loading 'FEM'
Warning: replacing previous import 'Matrix::colSums' by 'BiocGenerics::colSums' when loading 'FEM'
Warning: replacing previous import 'Matrix::rowSums' by 'BiocGenerics::rowSums' when loading 'FEM'
Warning: replacing previous import 'Matrix::which' by 'BiocGenerics::which' when loading 'FEM'
Warning: replacing previous import 'igraph::path' by 'BiocGenerics::path' when loading 'FEM'
Warning: replacing previous import 'igraph::normalize' by 'BiocGenerics::normalize' when loading 'FEM'
** testing if installed package can be loaded from final location
Warning: replacing previous import 'igraph::intersection' by 'graph::intersection' when loading 'FEM'
Warning: replacing previous import 'igraph::union' by 'graph::union' when loading 'FEM'
Warning: replacing previous import 'igraph::degree' by 'graph::degree' when loading 'FEM'
Warning: replacing previous import 'igraph::edges' by 'graph::edges' when loading 'FEM'
Warning: replacing previous import 'Matrix::colMeans' by 'BiocGenerics::colMeans' when loading 'FEM'
Warning: replacing previous import 'Matrix::rowMeans' by 'BiocGenerics::rowMeans' when loading 'FEM'
Warning: replacing previous import 'limma::plotMA' by 'BiocGenerics::plotMA' when loading 'FEM'
Warning: replacing previous import 'Matrix::colSums' by 'BiocGenerics::colSums' when loading 'FEM'
Warning: replacing previous import 'Matrix::rowSums' by 'BiocGenerics::rowSums' when loading 'FEM'
Warning: replacing previous import 'Matrix::which' by 'BiocGenerics::which' when loading 'FEM'
Warning: replacing previous import 'igraph::path' by 'BiocGenerics::path' when loading 'FEM'
Warning: replacing previous import 'igraph::normalize' by 'BiocGenerics::normalize' when loading 'FEM'
** testing if installed package keeps a record of temporary installation path
install for x64
* installing *source* package 'FEM' ...
** testing if installed package can be loaded
Warning: replacing previous import 'igraph::edges' by 'graph::edges' when loading 'FEM'
Warning: replacing previous import 'igraph::intersection' by 'graph::intersection' when loading 'FEM'
Warning: replacing previous import 'igraph::degree' by 'graph::degree' when loading 'FEM'
Warning: replacing previous import 'igraph::union' by 'graph::union' when loading 'FEM'
Warning: replacing previous import 'limma::plotMA' by 'BiocGenerics::plotMA' when loading 'FEM'
Warning: replacing previous import 'igraph::path' by 'BiocGenerics::path' when loading 'FEM'
Warning: replacing previous import 'Matrix::colSums' by 'BiocGenerics::colSums' when loading 'FEM'
Warning: replacing previous import 'Matrix::colMeans' by 'BiocGenerics::colMeans' when loading 'FEM'
Warning: replacing previous import 'Matrix::rowMeans' by 'BiocGenerics::rowMeans' when loading 'FEM'
Warning: replacing previous import 'Matrix::rowSums' by 'BiocGenerics::rowSums' when loading 'FEM'
Warning: replacing previous import 'Matrix::which' by 'BiocGenerics::which' when loading 'FEM'
Warning: replacing previous import 'igraph::normalize' by 'BiocGenerics::normalize' when loading 'FEM'
* MD5 sums
packaged installation of 'FEM' as FEM_3.11.0.zip
* DONE (FEM)