| Back to Multiple platform build/check report for BioC 3.9 |
|
This page was generated on 2019-04-09 12:37:06 -0400 (Tue, 09 Apr 2019).
| Package 535/1703 | Hostname | OS / Arch | INSTALL | BUILD | CHECK | BUILD BIN | ||||||
| FELLA 1.3.1 Sergio Picart-Armada
| malbec2 | Linux (Ubuntu 18.04.2 LTS) / x86_64 | OK | ERROR | skipped | |||||||
| tokay2 | Windows Server 2012 R2 Standard / x64 | OK | OK | OK | [ OK ] | |||||||
| celaya2 | OS X 10.11.6 El Capitan / x86_64 | OK | ERROR | skipped | skipped | |||||||
| merida2 | OS X 10.11.6 El Capitan / x86_64 | OK | ERROR | skipped | skipped |
| Package: FELLA |
| Version: 1.3.1 |
| Command: rm -rf FELLA.buildbin-libdir && mkdir FELLA.buildbin-libdir && C:\Users\biocbuild\bbs-3.9-bioc\R\bin\R.exe CMD INSTALL --merge-multiarch --build --library=FELLA.buildbin-libdir FELLA_1.3.1.tar.gz |
| StartedAt: 2019-04-09 07:53:55 -0400 (Tue, 09 Apr 2019) |
| EndedAt: 2019-04-09 07:54:50 -0400 (Tue, 09 Apr 2019) |
| EllapsedTime: 55.6 seconds |
| RetCode: 0 |
| Status: OK |
| PackageFile: FELLA_1.3.1.zip |
| PackageFileSize: 2.844 MiB |
##############################################################################
##############################################################################
###
### Running command:
###
### rm -rf FELLA.buildbin-libdir && mkdir FELLA.buildbin-libdir && C:\Users\biocbuild\bbs-3.9-bioc\R\bin\R.exe CMD INSTALL --merge-multiarch --build --library=FELLA.buildbin-libdir FELLA_1.3.1.tar.gz
###
##############################################################################
##############################################################################
install for i386
* installing *source* package 'FELLA' ...
** R
** data
** inst
** byte-compile and prepare package for lazy loading
** help
*** installing help indices
converting help for package 'FELLA'
finding HTML links ... done
D.diffusion html
D.hypergeom html
D.keggdata html
D.pagerank html
FELLA.DATA html
FELLA html
FELLA.USER html
FELLA.sample html
U.diffusion html
U.hypergeom html
U.pagerank html
U.userinput html
checkArguments html
data-funs html
dot-params html
enrich-funs html
export-funs html
getBackground html
getCom html
getExcluded html
getGraph html
getInfo html
getInput html
getMatrix html
getName html
getPscores html
getPvaluesSize html
getStatus html
getSums html
getValid html
infere.con2ec html
input.sample html
is.FELLA.DATA html
is.FELLA.USER html
largestcc html
launchApp html
listApprox html
listCategories html
listInternalDatabases html
listMethods html
mytriangle html
plotBipartite html
plotLegend html
sanitise html
** building package indices
** installing vignettes
** testing if installed package can be loaded from temporary location
** testing if installed package can be loaded from final location
** testing if installed package keeps a record of temporary installation path
install for x64
* installing *source* package 'FELLA' ...
** testing if installed package can be loaded
* MD5 sums
packaged installation of 'FELLA' as FELLA_1.3.1.zip
* DONE (FELLA)