| Back to Multiple platform build/check report for BioC 3.9 |
|
This page was generated on 2019-04-09 12:25:49 -0400 (Tue, 09 Apr 2019).
| Package 520/1703 | Hostname | OS / Arch | INSTALL | BUILD | CHECK | BUILD BIN | ||||||
| ExperimentHubData 1.9.1 Bioconductor Package Maintainer
| malbec2 | Linux (Ubuntu 18.04.2 LTS) / x86_64 | OK | OK | OK | |||||||
| tokay2 | Windows Server 2012 R2 Standard / x64 | OK | OK | WARNINGS | [ OK ] | |||||||
| celaya2 | OS X 10.11.6 El Capitan / x86_64 | OK | OK | OK | OK | |||||||
| merida2 | OS X 10.11.6 El Capitan / x86_64 | OK | OK | OK | OK |
| Package: ExperimentHubData |
| Version: 1.9.1 |
| Command: rm -rf ExperimentHubData.buildbin-libdir && mkdir ExperimentHubData.buildbin-libdir && C:\Users\biocbuild\bbs-3.9-bioc\R\bin\R.exe CMD INSTALL --merge-multiarch --build --library=ExperimentHubData.buildbin-libdir ExperimentHubData_1.9.1.tar.gz |
| StartedAt: 2019-04-09 07:53:00 -0400 (Tue, 09 Apr 2019) |
| EndedAt: 2019-04-09 07:54:24 -0400 (Tue, 09 Apr 2019) |
| EllapsedTime: 83.9 seconds |
| RetCode: 0 |
| Status: OK |
| PackageFile: ExperimentHubData_1.9.1.zip |
| PackageFileSize: 666.2 KiB |
##############################################################################
##############################################################################
###
### Running command:
###
### rm -rf ExperimentHubData.buildbin-libdir && mkdir ExperimentHubData.buildbin-libdir && C:\Users\biocbuild\bbs-3.9-bioc\R\bin\R.exe CMD INSTALL --merge-multiarch --build --library=ExperimentHubData.buildbin-libdir ExperimentHubData_1.9.1.tar.gz
###
##############################################################################
##############################################################################
install for i386
* installing *source* package 'ExperimentHubData' ...
** R
** inst
** byte-compile and prepare package for lazy loading
** help
*** installing help indices
converting help for package 'ExperimentHubData'
finding HTML links ... done
ExperimentHubMetadata-class html
addResources html
Rd warning: C:/Users/biocbuild/bbs-3.9-bioc/tmpdir/Rtmp8K4Rm1/R.INSTALL2c9c78637571/ExperimentHubData/man/addResources.Rd:62: file link 'AnnotationHubMetadata' in package 'AnnotationHubData' does not exist and so has been treated as a topic
makeExperimentHubMetadata html
** building package indices
** installing vignettes
** testing if installed package can be loaded from temporary location
** testing if installed package can be loaded from final location
** testing if installed package keeps a record of temporary installation path
install for x64
* installing *source* package 'ExperimentHubData' ...
** testing if installed package can be loaded
* MD5 sums
packaged installation of 'ExperimentHubData' as ExperimentHubData_1.9.1.zip
* DONE (ExperimentHubData)